BEGIN:VCALENDAR
VERSION:2.0
PRODID:-//Golden Yoga - ECPv6.2.9//NONSGML v1.0//EN
CALSCALE:GREGORIAN
METHOD:PUBLISH
X-WR-CALNAME:Golden Yoga
X-ORIGINAL-URL:https://goldenyoga-dresden.de
X-WR-CALDESC:Veranstaltungen für Golden Yoga
REFRESH-INTERVAL;VALUE=DURATION:PT1H
X-Robots-Tag:noindex
X-PUBLISHED-TTL:PT1H
BEGIN:VTIMEZONE
TZID:Europe/Berlin
BEGIN:DAYLIGHT
TZOFFSETFROM:+0100
TZOFFSETTO:+0200
TZNAME:CEST
DTSTART:20250330T010000
END:DAYLIGHT
BEGIN:STANDARD
TZOFFSETFROM:+0200
TZOFFSETTO:+0100
TZNAME:CET
DTSTART:20251026T010000
END:STANDARD
END:VTIMEZONE
BEGIN:VEVENT
DTSTART;TZID=Europe/Berlin:20250314T180000
DTEND;TZID=Europe/Berlin:20250316T120000
DTSTAMP:20260422T122903
CREATED:20241024T184837Z
LAST-MODIFIED:20241024T185100Z
UID:10000602-1741975200-1742126400@goldenyoga-dresden.de
SUMMARY:Intensives YOGA und viel mehr aus der ganzen Welt mit Yogabi
DESCRIPTION:Intensives YOGA und viel mehr aus der ganzen Welt \nDie weltumspannende Komposition dieses YOGA Project-Wochenendes bezieht sich neben dem klassischen HathaYOGA ganz betont auf das moderne Konzept der Haltungs- und Bewegungskoordination der Spiraldynamik aus der Schweiz. Dazu Lehren der kinästhetischen und propriozeptiven Selbstwahrnehmung der Feldenkrais-Methode mit den Wurzeln in Israel\, mündlich überlieferten indischen Kriya Yoga-Traditionen mit selten gelehrten Atem-Techniken und Meditation … \nYOGA\, Atmung\, Spiraldynamik & die Feldenkrais Methode \n+43 660 31 44 874 gabi@yogabi.at www.yogabi.at\nvon und mit YOGABI – \n(Ö)\nE-RYT®500 – YOGA | Atem-Coach Feldenkrais- & ZRM-Trainerin | Spiraldynamik \nFr.\, 14. – So.\, 16. März 2025\nGOLDEN YOGA Studio – Obergraben 2 – 01097 Dresden\n€ 190 early bird > 1. Januar 25\nspäter € 220 \nInfo und Anmeldung: Karin Phillip | karin.philipp@gmx.net | 0176 70127079 \n  \n 
URL:https://goldenyoga-dresden.de/goldenyogakalender/intensives-yoga-und-viel-mehr-aus-der-ganzen-welt-mit-yogabi/
LOCATION:golden yoga\, Obergraben 2\, Dresden\, 01097
CATEGORIES:Seminare,Workshops,Yogastunden extra
ATTACH;FMTTYPE=image/jpeg:https://goldenyoga-dresden.de/wp-content/uploads/2024/10/Dresden-2025-e1729795708913.jpg
GEO:51.0597919;13.7424735
X-APPLE-STRUCTURED-LOCATION;VALUE=URI;X-ADDRESS=golden yoga Obergraben 2 Dresden 01097;X-APPLE-RADIUS=500;X-TITLE=Obergraben 2:geo:13.7424735,51.0597919
END:VEVENT
BEGIN:VEVENT
DTSTART;TZID=Europe/Berlin:20250316T170000
DTEND;TZID=Europe/Berlin:20250316T200000
DTSTAMP:20260422T122903
CREATED:20241219T112956Z
LAST-MODIFIED:20241219T113215Z
UID:10000656-1742144400-1742155200@goldenyoga-dresden.de
SUMMARY:Yoni Steaming Zeremonie - Heile deinen Schoßraum mit Tina Tschenker von Geh-Fühlen
DESCRIPTION:Der Schoßraum wird als Quelle der Schöpfung und Lebensenergie betrachtet – ein Zentrum\, das sowohl physisch als auch energetisch gepflegt werden möchte. Durch das Steaming kannst du alte Muster\, Verletzungen und Traumata loslassen und dich wieder mit deiner inneren Weiblichkeit verbinden. \nIch lade dich ein\, die kraftvolle Praxis des Yoni Steaming in einem geschützten und achtsamen Raum zu erleben. Mit warmem Kräuterdampf unterstützen wir gemeinsam die Heilung deines Schoßraums – sei es nach Verletzungen\, bei Traumata oder um deine Weiblichkeit bewusst zu ehren. Diese uralte Zeremonie reinigt\, entspannt und schenkt dir Momente tiefer Selbstfürsorge und Balance. Sie fördert nicht nur die körperliche Regeneration\, sondern auch emotionale Klarheit und inneren Frieden. Nimm dir Zeit\, dich selbst neu zu entdecken und deinen Schoßraum in Liebe zu nähren. \n16.03.2025\, 17 – 20 Uhr\n22.06.2025\, 17 – 20 Uhr\n13.09.2025\, 17 – 20 Uhr\n07.12.2025\, 17 – 20 Uhr \nDie Teilnehmerinnenzahl ist pro Zeremonie auf 6 begrenzt. \nAnmeldung: direkt bei Tina unter https://www.geh-fühlen.de/veranstaltungen-termine oder 0173 8556509
URL:https://goldenyoga-dresden.de/goldenyogakalender/yoni-steaming-zeremonie-heile-deinen-schossraum-mit-tina-tschenker-von-geh-fuehlen/2025-03-16/
LOCATION:golden yoga\, Obergraben 2\, Dresden\, 01097
CATEGORIES:Seminare,Workshops
ATTACH;FMTTYPE=image/jpeg:https://goldenyoga-dresden.de/wp-content/uploads/2024/12/Tina_Yoni_Zeremonie.jpg
GEO:51.0597919;13.7424735
X-APPLE-STRUCTURED-LOCATION;VALUE=URI;X-ADDRESS=golden yoga Obergraben 2 Dresden 01097;X-APPLE-RADIUS=500;X-TITLE=Obergraben 2:geo:13.7424735,51.0597919
END:VEVENT
END:VCALENDAR