BEGIN:VCALENDAR
VERSION:2.0
PRODID:-//Golden Yoga - ECPv6.2.9//NONSGML v1.0//EN
CALSCALE:GREGORIAN
METHOD:PUBLISH
X-ORIGINAL-URL:https://goldenyoga-dresden.de
X-WR-CALDESC:Veranstaltungen für Golden Yoga
REFRESH-INTERVAL;VALUE=DURATION:PT1H
X-Robots-Tag:noindex
X-PUBLISHED-TTL:PT1H
BEGIN:VTIMEZONE
TZID:Europe/Berlin
BEGIN:DAYLIGHT
TZOFFSETFROM:+0100
TZOFFSETTO:+0200
TZNAME:CEST
DTSTART:20250330T010000
END:DAYLIGHT
BEGIN:STANDARD
TZOFFSETFROM:+0200
TZOFFSETTO:+0100
TZNAME:CET
DTSTART:20251026T010000
END:STANDARD
END:VTIMEZONE
BEGIN:VEVENT
DTSTART;TZID=Europe/Berlin:20250321T190000
DTEND;TZID=Europe/Berlin:20250321T220000
DTSTAMP:20260422T141015
CREATED:20241205T100052Z
LAST-MODIFIED:20241205T100131Z
UID:10000651-1742583600-1742594400@goldenyoga-dresden.de
SUMMARY:Jahreskreisfeste - Frühlingsgleiche - verkörpert\, bewegt & sinnlich mit Kosilona & Annette
DESCRIPTION:YIN-YOGA & ContactImprovisation & TANTRA \nWir feiern die 8 Feste des Jahreskreises als Sonnenfeste in der Verbindung mit deinem Körper. In diesem Ausdrucksraum kannst du die jeweilige Energie fühlen\, nutzen und dein Selbstvertrauen stärken.\n \nFRÜHLINGSGLEICHE\nIdentitätssuche & unbändige Lebenskraft: Jugend \nSpüren des eigenen Körpers. Die inneren Samen entfalten. Nähe & Distanz spielerisch erforschen. Resonanz mit der Natur. Licht & Dunkel in Bewegung. Kontakt mit Anderen tänzerisch gestalten. Selbstvertrauen stärken. \nInformationen & Anmeldung bei Kosilona: lebenskunst@posteo.de oder 0152 557 0099\nKosilona www.wurzelndeslebensflusses.de und Annette www.seelenstreichler-lorber.de \n \nLichtMAZEFest\nInspiration & Aufbruch: Erste Zeichen des Erwachens\n31.01.2025 \nFRÜHLINGSGLEICHE\nIdentitätssuche &unbändige Lebenskraft: Jugend\n21.03.2025 \nMAIFEST\nPrinzip der Anziehung: Blüte.\n25.04.2025 \nSommerSONNENWende\nBalance: Polare Kräfte wirken miteinander\n20.06.2025 \nHERBSTGLEICHE\nHaupternte: Tod in der Fülle des Lebens.\n19.09.2025 \nAHNINNENFEST\nVerbindung Vergangenheit & Zukunft: Samen & Wurzeln\n31.10.2025 \nWINTERSONNENWENDE\nZwischenZeit und Innen Raum: Dunkelheit.\n19.12.2025 \nAlle Feste finden 19 – 22 Uhr statt.
URL:https://goldenyoga-dresden.de/goldenyogakalender/jahreskreisfeste-fruehlingsgleiche-verkoerpert-bewegt-sinnlich-mit-kosilona-annette-2/
LOCATION:golden yoga\, Obergraben 2\, Dresden\, 01097
CATEGORIES:Jahresgruppe,Performance,Workshops
ATTACH;FMTTYPE=image/jpeg:https://goldenyoga-dresden.de/wp-content/uploads/2024/12/Fruehlingsgleiche2025web.jpg
GEO:51.0597919;13.7424735
X-APPLE-STRUCTURED-LOCATION;VALUE=URI;X-ADDRESS=golden yoga Obergraben 2 Dresden 01097;X-APPLE-RADIUS=500;X-TITLE=Obergraben 2:geo:13.7424735,51.0597919
END:VEVENT
END:VCALENDAR