BEGIN:VCALENDAR
VERSION:2.0
PRODID:-//Golden Yoga - ECPv6.2.9//NONSGML v1.0//EN
CALSCALE:GREGORIAN
METHOD:PUBLISH
X-WR-CALNAME:Golden Yoga
X-ORIGINAL-URL:https://goldenyoga-dresden.de
X-WR-CALDESC:Veranstaltungen für Golden Yoga
REFRESH-INTERVAL;VALUE=DURATION:PT1H
X-Robots-Tag:noindex
X-PUBLISHED-TTL:PT1H
BEGIN:VTIMEZONE
TZID:Europe/Berlin
BEGIN:DAYLIGHT
TZOFFSETFROM:+0100
TZOFFSETTO:+0200
TZNAME:CEST
DTSTART:20250330T010000
END:DAYLIGHT
BEGIN:STANDARD
TZOFFSETFROM:+0200
TZOFFSETTO:+0100
TZNAME:CET
DTSTART:20251026T010000
END:STANDARD
END:VTIMEZONE
BEGIN:VEVENT
DTSTART;TZID=Europe/Berlin:20250426T080000
DTEND;TZID=Europe/Berlin:20250427T130000
DTSTAMP:20260422T093731
CREATED:20250330T082016Z
LAST-MODIFIED:20250407T081110Z
UID:10000714-1745654400-1745758800@goldenyoga-dresden.de
SUMMARY:Einführung in die Contact Improvisation – Workshop mit Valentina
DESCRIPTION:Der Workshop ermöglicht eine feine\, erste Begegnung mit der Contact Improvisation. Der Körper wird durch eine morgendliche FineArtYoga Praxis gut vorbereitet und darf\ngeschmeidig und atmend nach einer stärkenden Frühstückspause in den 2. Teil des Workshops gehen: Kontemplativer Tanz im Kontext der Contact Improvisation. Hierbei\nlernt ihr behutsam erste Kontakte mit dem Raum\, dem Augenblick\, Dir selbst und den anderen Menschen zu gestalten. Nach einem gemeinsamen gemütlichen Mittagessen und genügend Zeit zum Ausruhen folgt dann der Nachmittag mit konkreten Techniken der Contact Improvisation und viel Zeit zum Tanzen. \nAm 2. Tag vertiefen wir unsere morgendliche FineArtYoga Praxis\, bereiten den Körper sanft und bewusst vor und integrieren wohltuende Techniken der Contact Improvisation. Nach einer stärkenden Frühstückspause gehen wir wieder in die nun etwas kürzere Kontemplative Tanzpraxis und krönen unseren Workshop mit einer\nContact Improvisation Jam. In der Jam können wir frei improvisieren auf allen Raumebenen\, den Tanzenden zuschauen\, wenn wir eine Pause brauchen\, vielleicht wird es\nein langes Duett oder Trio\, aus dem Du erst am Ende der Jam wieder auftauchst weil es so schön fließt. \nEin gemeinsamer Abschluß geht bis 13:00. Dann könnt Ihr den Sonntag noch so richtig schön genießen mit Eurem wachen\, lebendigen Körper! \nZeiten: Sa 26. April 8:00 – 18:00 & So 27. April 8.00 – 13:00\nKosten: 120€ / ermäßigt 100€\nAnmeldung: fluideum@gmail.com
URL:https://goldenyoga-dresden.de/goldenyogakalender/einfuehrung-in-die-contact-improvisation-workshop-mit-valentina/
LOCATION:golden yoga\, Obergraben 2\, Dresden\, 01097
CATEGORIES:Seminare,Workshops
ATTACH;FMTTYPE=image/jpeg:https://goldenyoga-dresden.de/wp-content/uploads/2025/03/valentina-cabro-3.jpg
GEO:51.0597919;13.7424735
X-APPLE-STRUCTURED-LOCATION;VALUE=URI;X-ADDRESS=golden yoga Obergraben 2 Dresden 01097;X-APPLE-RADIUS=500;X-TITLE=Obergraben 2:geo:13.7424735,51.0597919
END:VEVENT
BEGIN:VEVENT
DTSTART;TZID=Europe/Berlin:20250427T170000
DTEND;TZID=Europe/Berlin:20250427T210000
DTSTAMP:20260422T093731
CREATED:20240528T203122Z
LAST-MODIFIED:20250417T053633Z
UID:10000506-1745773200-1745787600@goldenyoga-dresden.de
SUMMARY:Kakao & Kuscheln - Conscious Cuddle Experience mit Ulrike
DESCRIPTION:Herzöffnung pur mit zeremoniellem Kakao und bewusstem Kuscheln \nLass dich bei der CCE – Kakao & Kuscheln verzaubern von einer Atmosphäre der Achtsamkeit\, Sicherheit und Wärme\, in der du berühren\, berührt werden\, Spaß haben und es dir richtig gut gehen lassen kannst. Die Regeln der Conscious Cuddle Experience bieten einen sicheren Rahmen; die Verbindung mit zeremoniellem Kakao kann die Kuschelerfahrung noch tiefer\, intensiver und sanfter machen. Denn Kakao ist nicht nur die herzöffnendste Pflanze\, die es gibt\, sie bringt dich auch zu mehr Klarheit und Selbstbestimmung. Sie unterstützt die bewusste Verbindung zu dem\, was deinem inneren Bedürfnis entspricht. Zeig dich damit… verletzlich\, schön\, wunderbar\, einzigartig.\nLass dich fallen und genieße. \nGemeinsam lassen wir die Magie dieser wunderbaren Pflanze auf uns wirken\, tauchen ein in herzöffnende Übungen und kuscheln uns in den 7. Himmel. Die Basis sind die Regeln der Conscious Cuddle Experience. \nAblauf: Willkommenskreis | Vorstellen des Regelwerks | herzöffnender Übungsblock | Kakaozeremonie | freie Kuschelrunde | Abschlusskreis \nMarta Ulrike ist augebildete Kuscheltherapeutin\, Kuschelpartyleiterin\, Yogalehrerin\, Holistic Bodyworkerin\, Begleiterin bei emotionalen Prozessen. Es ist ihr ein besonderes Anliegen\, einen nährenden Raum der Sicherheit und Klarheit zu bieten. \nLinks:\nhttps://kuschelraum.de/kuschelparty-dresden-ulrike/\nhttps://kuschelraum.de/events/kakao-kuschelparty-dresden-27-04-2025/ \nSchau auch gern in die FAQs und die AGB: https://kuschelraum.de/kuschelpartys/#faq \nDatum: Sonntag\, 27.04.2025 17-21.00 Uhr\nOrt: Golden Yoga Dresden\, Obergraben 2\, 01097 Dresden \nAusgleich: 35 €/ erm. 25 € / bringe jemand Neues mit und Ihr zahlt beide zusammen 50 €\nAnmeldung: ulrike@kuschelraum.de ; 01577 – 77 108 99 \nFacebook: Hier!\nTelegram: https://t.me/kuscheln_dresden
URL:https://goldenyoga-dresden.de/goldenyogakalender/kakao-kuscheln-conscious-cuddle-experience-mit-ulrike/
LOCATION:golden yoga\, Obergraben 2\, Dresden\, 01097
CATEGORIES:Konzerte & Events,Performance,Workshops
ATTACH;FMTTYPE=image/jpeg:https://goldenyoga-dresden.de/wp-content/uploads/2024/03/CCE-Kakao-Kuscheln-mit-Ulrike-1.jpg
GEO:51.0597919;13.7424735
X-APPLE-STRUCTURED-LOCATION;VALUE=URI;X-ADDRESS=golden yoga Obergraben 2 Dresden 01097;X-APPLE-RADIUS=500;X-TITLE=Obergraben 2:geo:13.7424735,51.0597919
END:VEVENT
END:VCALENDAR