BEGIN:VCALENDAR
VERSION:2.0
PRODID:-//Golden Yoga - ECPv6.2.9//NONSGML v1.0//EN
CALSCALE:GREGORIAN
METHOD:PUBLISH
X-ORIGINAL-URL:https://goldenyoga-dresden.de
X-WR-CALDESC:Veranstaltungen für Golden Yoga
REFRESH-INTERVAL;VALUE=DURATION:PT1H
X-Robots-Tag:noindex
X-PUBLISHED-TTL:PT1H
BEGIN:VTIMEZONE
TZID:Europe/Berlin
BEGIN:DAYLIGHT
TZOFFSETFROM:+0100
TZOFFSETTO:+0200
TZNAME:CEST
DTSTART:20250330T010000
END:DAYLIGHT
BEGIN:STANDARD
TZOFFSETFROM:+0200
TZOFFSETTO:+0100
TZNAME:CET
DTSTART:20251026T010000
END:STANDARD
END:VTIMEZONE
BEGIN:VEVENT
DTSTART;TZID=Europe/Berlin:20250510T100000
DTEND;TZID=Europe/Berlin:20250510T120000
DTSTAMP:20260422T141002
CREATED:20240819T083126Z
LAST-MODIFIED:20250525T183311Z
UID:10000577-1746871200-1746878400@goldenyoga-dresden.de
SUMMARY:Yoga & Klang - Masterclass mit Ramadhuta & Friends
DESCRIPTION:Wir laden Dich ein zu einer musikalischen Yogastunde! \nHatha-Yoga als Tanz der Polaritäten\, Stabilität und Festigkeit ausbalanciert mit Leichtigkeit\, Weite\, Freude. Das zu erreichen bedarf es klarer Ausrichtung und bewusster Aktivität. Mittler dabei ist der Atem\, das Geschenk des Lebens. Erst wenn wir diese Balance gefunden haben\, kann die Energie fließen und sich die volle Wirkung entfalten. Yoga wird so eine sinnliche Erfahrung des ganzen Seins. \nFinde das Glück auf dem Weg zu Deinen Zielen. Vielleicht fängst Du gleich damit an. Es gibt immer Gründe JETZT schon glücklich zu sein. Wofür bist Du dankbar. Für wen bist Du dankbar. Erschaffe diesen Zustand\, Glück zu empfinden\, dankbar zu sein. Das Universum schaut Dir zu\, wenn Du Freunde\, Glück erschaffst wird es Dich unterstützen\, wird Dein Glück vergrößern\, das Universum ist Fülle. \nKursleitung: Ramadhuta/ Musik: wechselnde Gäste\nEnergieausgleich: 25 Euro oder Einheit 10er Karte + Spende für Musik\nOrt: Golden Yoga Dresden\, Obergraben 2\, 01097 Dresden \nTeilnehmerzahl ist begrenzt\, Anmeldung wird empfohlen: https://ramadhuta-yoga.de/anmeldung/
URL:https://goldenyoga-dresden.de/goldenyogakalender/yoga-klang-masterclass-mit-ramadhuta-friends/2025-05-10/
LOCATION:golden yoga\, Obergraben 2\, Dresden\, 01097
CATEGORIES:Konzerte & Events,Yogastunden extra
ATTACH;FMTTYPE=image/jpeg:https://goldenyoga-dresden.de/wp-content/uploads/2020/08/DSC_2028-e1678119586236.jpg
GEO:51.0597919;13.7424735
X-APPLE-STRUCTURED-LOCATION;VALUE=URI;X-ADDRESS=golden yoga Obergraben 2 Dresden 01097;X-APPLE-RADIUS=500;X-TITLE=Obergraben 2:geo:13.7424735,51.0597919
END:VEVENT
BEGIN:VEVENT
DTSTART;TZID=Europe/Berlin:20250510T133000
DTEND;TZID=Europe/Berlin:20250510T173000
DTSTAMP:20260422T141002
CREATED:20250412T200539Z
LAST-MODIFIED:20250412T200539Z
UID:10000719-1746883800-1746898200@goldenyoga-dresden.de
SUMMARY:Shiatsu Workshop zur Leber & Gallenblase mit Allegra
DESCRIPTION:In diesem Workshop tauchen wir ein in die Welt der Traditionellen Chinesischen Medizin (TCM) und des Shiatsu. Wir widmen uns speziell dem Leber- und Gallenblasenmeridian – den energetischen Leitbahnen\, die für Entscheidungskraft\, Kreativität\, Durchsetzungsvermögen und einen freien Energiefluss stehen. \nDieser Workshop bietet dir den Raum\, die Heilkraft deiner Hände mit schlichten Techniken aus dem Shiatsu zu erforschen und zu entfalten. \nWas dich erwartet:\n– Einführung in die Bedeutung von Leber- & Gallenblasenenergie (physisch\, emotional\, mental & geistig)\n– Geführte Meridian-Dehnübungen (Makko Ho)\n– Partnerübungen & achtsame Shiatsu-Techniken\n– Akupressur für spezielle Akupunkturpunkte \nDatum 10. Mai 2025\nZeit 13:30 – 17:30\nVeranstalterin Allegra Rout\nPreis 50 € p.P. – kommt ihr zu Zweit 90 € zusammen \nWebseite https://www.allegrarout.com/workshops/shiatsu-workshop/
URL:https://goldenyoga-dresden.de/goldenyogakalender/shiatsu-workshop-zur-leber-gallenblase-mit-allegra/
LOCATION:golden yoga\, Obergraben 2\, Dresden\, 01097
CATEGORIES:Seminare,Workshops
ATTACH;FMTTYPE=image/jpeg:https://goldenyoga-dresden.de/wp-content/uploads/2025/04/Shiatsu-mit-Allegra.jpg
GEO:51.0597919;13.7424735
X-APPLE-STRUCTURED-LOCATION;VALUE=URI;X-ADDRESS=golden yoga Obergraben 2 Dresden 01097;X-APPLE-RADIUS=500;X-TITLE=Obergraben 2:geo:13.7424735,51.0597919
END:VEVENT
END:VCALENDAR