BEGIN:VCALENDAR
VERSION:2.0
PRODID:-//Golden Yoga - ECPv6.2.9//NONSGML v1.0//EN
CALSCALE:GREGORIAN
METHOD:PUBLISH
X-ORIGINAL-URL:https://goldenyoga-dresden.de
X-WR-CALDESC:Veranstaltungen für Golden Yoga
REFRESH-INTERVAL;VALUE=DURATION:PT1H
X-Robots-Tag:noindex
X-PUBLISHED-TTL:PT1H
BEGIN:VTIMEZONE
TZID:Europe/Berlin
BEGIN:DAYLIGHT
TZOFFSETFROM:+0100
TZOFFSETTO:+0200
TZNAME:CEST
DTSTART:20250330T010000
END:DAYLIGHT
BEGIN:STANDARD
TZOFFSETFROM:+0200
TZOFFSETTO:+0100
TZNAME:CET
DTSTART:20251026T010000
END:STANDARD
END:VTIMEZONE
BEGIN:VEVENT
DTSTART;TZID=Europe/Berlin:20251101T100000
DTEND;TZID=Europe/Berlin:20251101T120000
DTSTAMP:20260423T113506
CREATED:20250131T100537Z
LAST-MODIFIED:20250206T132306Z
UID:10000680-1761991200-1761998400@goldenyoga-dresden.de
SUMMARY:PartnerYoga mit Nitya & Tammo
DESCRIPTION:  \nYoga heißt Einheit\, Verbindung mit dir selbst\, dem Universum und bei unserer Yogasession auch mit (d)einem*r Partner*in. Praktizieren zwei Menschen gemeinsam\, verbinden sie sich\, schwingen miteinander und gehen in Resonanz. PartnerYoga heißt\, sich mit Vertrauen\, Bewusstheit und Achtsamkeit aufeinander einzulassen und sich und den Partner zu spüren. Zu zweit kannst du mehr Beweglichkeit erzielen\, neue Erfahrungen in bekannten Yogaübungen machen und die Freude am Bewegen und Erleben teilen. \nKursleitung: Nitya \nKosten: 26 € pro Person\n \nZeit: 10:00 – 12:00 Uhr \nAnmeldung\nNitya 0178 1358098 | nitya@goldenyoga-dresden.de | sonnemond-yoga.de
URL:https://goldenyoga-dresden.de/goldenyogakalender/partneryoga-mit-nitya-tammo-4/2025-11-01/
LOCATION:golden yoga\, Obergraben 2\, Dresden\, 01097
CATEGORIES:Workshops,Yogastunden extra
ATTACH;FMTTYPE=image/jpeg:https://goldenyoga-dresden.de/wp-content/uploads/2021/06/doppelboot.jpg
GEO:51.0597919;13.7424735
X-APPLE-STRUCTURED-LOCATION;VALUE=URI;X-ADDRESS=golden yoga Obergraben 2 Dresden 01097;X-APPLE-RADIUS=500;X-TITLE=Obergraben 2:geo:13.7424735,51.0597919
END:VEVENT
BEGIN:VEVENT
DTSTART;TZID=Europe/Berlin:20251101T140000
DTEND;TZID=Europe/Berlin:20251101T200000
DTSTAMP:20260423T113506
CREATED:20250106T110249Z
LAST-MODIFIED:20250108T162651Z
UID:10000667-1762005600-1762027200@goldenyoga-dresden.de
SUMMARY:Raus aus dem Verstand\, rein ins Gefühl! Yoga & Massage
DESCRIPTION:November-Special: Leichnamsluck trifft Wolkenflug\nAnfänger und Geübte willkommen! Wir bleiben stofflich begrenzt. Leichnams-Luck trifft Wolkenflug. Wir nehmen uns bewusst Zeit für Körper\, Seele und Geist. Mit Yoga kommst Du ganz bei Dir und im Raum an. Mit unserer schönen Herz-Meditation öffnen wir unser Herz für das Mensch sein und verbinden uns mit der Gruppe.\nIm Ritual erfahren wir tiefe Entspannung\, ein meditatives Wohlwollen und geben uns dem LOSLASSEN hin\, lassen geschehen und vertrauen. Danach wirst du unter Anleitung noch in den Himmel gehoben mit einer feinen tantrischen Kopfmassage.\nZwei Rituale in Einem. Mit Anleitung und Skript für zu Hause\nKosten: 100 € pro Person\nAnmeldung: per WhatsApp 0152 53365933 oder per E-Mail sandra@nacktfalter.de\nSeminarleitung: Sandra Klein mit Assistenzteam\nwww.nacktfalter.de\nwww.privattantra.de\nLiebe Grüße\,\nSandra und Max
URL:https://goldenyoga-dresden.de/goldenyogakalender/raus-aus-dem-verstand-rein-ins-gefuehl-yoga-massage/
LOCATION:golden yoga\, Obergraben 2\, Dresden\, 01097
CATEGORIES:Seminare,Workshops
ATTACH;FMTTYPE=image/jpeg:https://goldenyoga-dresden.de/wp-content/uploads/2025/01/ws-sandra-klein-11_2025.jpg
ORGANIZER;CN="Sandra Klein":MAILTO:sandra@nacktfalter.de
GEO:51.0597919;13.7424735
X-APPLE-STRUCTURED-LOCATION;VALUE=URI;X-ADDRESS=golden yoga Obergraben 2 Dresden 01097;X-APPLE-RADIUS=500;X-TITLE=Obergraben 2:geo:13.7424735,51.0597919
END:VEVENT
END:VCALENDAR