BEGIN:VCALENDAR
VERSION:2.0
PRODID:-//Golden Yoga - ECPv6.2.9//NONSGML v1.0//EN
CALSCALE:GREGORIAN
METHOD:PUBLISH
X-ORIGINAL-URL:https://goldenyoga-dresden.de
X-WR-CALDESC:Veranstaltungen für Golden Yoga
REFRESH-INTERVAL;VALUE=DURATION:PT1H
X-Robots-Tag:noindex
X-PUBLISHED-TTL:PT1H
BEGIN:VTIMEZONE
TZID:Europe/Berlin
BEGIN:DAYLIGHT
TZOFFSETFROM:+0100
TZOFFSETTO:+0200
TZNAME:CEST
DTSTART:20260329T010000
END:DAYLIGHT
BEGIN:STANDARD
TZOFFSETFROM:+0200
TZOFFSETTO:+0100
TZNAME:CET
DTSTART:20261025T010000
END:STANDARD
END:VTIMEZONE
BEGIN:VEVENT
DTSTART;TZID=Europe/Berlin:20260315T110000
DTEND;TZID=Europe/Berlin:20260315T140000
DTSTAMP:20260419T163735
CREATED:20260311T084013Z
LAST-MODIFIED:20260311T084013Z
UID:10000811-1773572400-1773583200@goldenyoga-dresden.de
SUMMARY:DU & ICH – PartnerYoga mit Karina Köhler
DESCRIPTION:Wie Yoga – nur mit doppeltem Halt\, doppelter Dehnung und doppeltem Spaß! Partneryoga ist nicht nur etwas für Paare? Auch mit deiner besten Freundin\, einem guten Freund oder jemandem aus deiner Familie kannst du Partneryoga erfahren. \nBeim “DU & ICH” Lieblingsmenschen Yogaworkshop\, lasst ihr euch voller Vertrauen auf den anderen ein. Eure Körper unterstützen sich gegenseitig\, um so in tiefere Dehnung und Entspannung zu kommen. Achtsame Intensivmomente lassen eure gemeinsame Zeit zu einem ganz besonderen Erlebnis werden. \nGemeinsam atmen. Gemeinsam bewegen. Gemeinsam wachsen. Gemeinsam spüren. Gemeinsam lachen. Gemeinsam sein. Euch gemeinsame Zeit schenken! \nAnmeldung\nMeldet euch bitte bei mir an\, um euch einen Platz als Paar zu sichern.\n0162-9720694 oder info@karinakoehler.de \nBeitrag\n130€ / Paar \nHi – ich bin Karina – Partnerin\, Mama\, Tochter\, Schwester\, Freundin\, Yogalehrerin\, Bodyworkerin\, Kreative\, Naturliebhaberin\, mal wild\, mal langsam und jeden Tag ein bisschen mehr und weniger von allem. \nIch freu mich sehr auf euch!\nAlles Liebe\, Karina.\n♥☀ \nErfahre hier gern mehr über mich:www.karinakoehler.de oder auf IG: @wild_and_slow
URL:https://goldenyoga-dresden.de/goldenyogakalender/du-ich-partneryoga-mit-karina-koehler/
LOCATION:golden yoga\, Obergraben 2\, Dresden\, 01097
CATEGORIES:Workshops
ATTACH;FMTTYPE=image/jpeg:https://goldenyoga-dresden.de/wp-content/uploads/2026/03/partneryoga.jpg
GEO:51.0597919;13.7424735
X-APPLE-STRUCTURED-LOCATION;VALUE=URI;X-ADDRESS=golden yoga Obergraben 2 Dresden 01097;X-APPLE-RADIUS=500;X-TITLE=Obergraben 2:geo:13.7424735,51.0597919
END:VEVENT
BEGIN:VEVENT
DTSTART;TZID=Europe/Berlin:20260315T170000
DTEND;TZID=Europe/Berlin:20260315T200000
DTSTAMP:20260419T163735
CREATED:20251113T212211Z
LAST-MODIFIED:20251113T212211Z
UID:10000756-1773594000-1773604800@goldenyoga-dresden.de
SUMMARY:Yoni Steaming Zeremonie – Heile deinen Schoßraum mit Tina Tschenker von Geh-Fühlen
DESCRIPTION:Der Schoßraum wird als Quelle der Schöpfung und Lebensenergie betrachtet – ein Zentrum\, das sowohl physisch als auch energetisch gepflegt werden möchte. Durch das Steaming kannst du alte Muster\, Verletzungen und Traumata loslassen und dich wieder mit deiner inneren Weiblichkeit verbinden. \nIch lade dich ein\, die kraftvolle Praxis des Yoni Steaming in einem geschützten und achtsamen Raum zu erleben. Mit warmem Kräuterdampf unterstützen wir gemeinsam die Heilung deines Schoßraums – sei es nach Verletzungen\, bei Traumata oder um deine Weiblichkeit bewusst zu ehren. Diese uralte Zeremonie reinigt\, entspannt und schenkt dir Momente tiefer Selbstfürsorge und Balance. Sie fördert nicht nur die körperliche Regeneration\, sondern auch emotionale Klarheit und inneren Frieden. Nimm dir Zeit\, dich selbst neu zu entdecken und deinen Schoßraum in Liebe zu nähren. \n01.02.2026 17-20 Uhr\n15.03.2026 17-20 Uhr\n13.09.2026 17-20 Uhr\n01.11.2026 17-20 Uhr \nDie Teilnehmerinnenzahl ist pro Zeremonie auf 6 begrenzt. \nAnmeldung: direkt bei Tina unter https://www.geh-fühlen.de/veranstaltungen-termine oder 0173 8556509
URL:https://goldenyoga-dresden.de/goldenyogakalender/yoni-steaming-zeremonie-heile-deinen-schossraum-mit-tina-tschenker-von-geh-fuehlen-2/2026-03-15/
LOCATION:golden yoga\, Obergraben 2\, Dresden\, 01097
CATEGORIES:Seminare,Workshops
ATTACH;FMTTYPE=image/png:https://goldenyoga-dresden.de/wp-content/uploads/2025/11/BannerYoni2026.png
ORGANIZER;CN="Tina Tschenker":MAILTO:geh-fuehlen@gmx.de
GEO:51.0597919;13.7424735
X-APPLE-STRUCTURED-LOCATION;VALUE=URI;X-ADDRESS=golden yoga Obergraben 2 Dresden 01097;X-APPLE-RADIUS=500;X-TITLE=Obergraben 2:geo:13.7424735,51.0597919
END:VEVENT
END:VCALENDAR