BEGIN:VCALENDAR
VERSION:2.0
PRODID:-//Golden Yoga - ECPv6.2.9//NONSGML v1.0//EN
CALSCALE:GREGORIAN
METHOD:PUBLISH
X-WR-CALNAME:Golden Yoga
X-ORIGINAL-URL:https://goldenyoga-dresden.de
X-WR-CALDESC:Veranstaltungen für Golden Yoga
REFRESH-INTERVAL;VALUE=DURATION:PT1H
X-Robots-Tag:noindex
X-PUBLISHED-TTL:PT1H
BEGIN:VTIMEZONE
TZID:Europe/Berlin
BEGIN:DAYLIGHT
TZOFFSETFROM:+0100
TZOFFSETTO:+0200
TZNAME:CEST
DTSTART:20210328T010000
END:DAYLIGHT
BEGIN:STANDARD
TZOFFSETFROM:+0200
TZOFFSETTO:+0100
TZNAME:CET
DTSTART:20211031T010000
END:STANDARD
END:VTIMEZONE
BEGIN:VEVENT
DTSTART;TZID=Europe/Berlin:20210312T190000
DTEND;TZID=Europe/Berlin:20210312T220000
DTSTAMP:20260419T211610
CREATED:20200830T153933Z
LAST-MODIFIED:20210305T162945Z
UID:10000278-1615575600-1615586400@goldenyoga-dresden.de
SUMMARY:Online-Workshop: Yoga & Lichtkörper\, Faszientraining\, PMA III mit Ramadhuta
DESCRIPTION:12.03. Online-Workshop: Yoga & Lichtkörper\, Faszientraining\, Pawan Mukta Asana III\, 19-22 Uhr \nLichtkörper-Prozeß – Atemreise – Visualisierungen – Bewusstseinsübungen – Faszientraining – Pawan Mukta Asana III \nDie bekannte Welt\, die Wahrheit auf die wir uns geeinigt haben gerät aus den Fugen\, die Oberflächen platzen ab\, es wird durchschaubar\, wenn wir bereit sind zu schauen. Wir sind dabei nicht passive Beobachter\, es geschieht mit uns\, mit allem was wir hier sind: Körper\, Beziehungen\, Lebensräume und Lebensfelder. Wir geraten aus den Fugen\, platzen auf und das ist gut so. Wir sind soziale Wesen und unsere individuelle und gemeinsame Mission ist Erlichtung\, Klärung\, Vergebung. Wer wenn nicht wir\, kann sich erheben aus Mangel\, Minderwert\, Würdelosigkeit und Ohnmacht. Wir dürfen und müssen für uns einstehen. Jetzt\, hier und heute. Wo passiert das? Zuerst in uns. Im Körper\, im Geist\, in den Mentalfeldern\, im Bewusstsein. Yoga und der Lichtkörper-Prozess. Wir sind ein Atem! \nDich erwartet eine Atemreise mit Visualisierungen und Bewusstseinsübungen\, eine etwa 45 minütige Übungssequenz zum Faszientraining\, sowie die Pawan-Mukta-Asana-Reihe III mit Übungen zum Lösen von Energieblockaden im Becken- und Bauchraum. \nDiese Yoga-Reihe hat es in sich. Die Shakti Bandha Asanas sind sehr kraftvoll\, lösen energetische Blockaden und stärken Nerven-\, Drüsen- und Kreislaufsystem. Blockierte Vitalität wird aktiviert\, Rückenthemen werden in der Tiefe angegangen\, Organe und Muskeln im Beckenraum belebt. Wir fühlen verbunden\, zu Hause im Körper. Die zurück gewonnene Energie können wir direkt spüren und in unsere Herzensprojekte fließen lassen. \nDer Workshop findet Online via Zoom statt. Der Link wird nach Anmeldung zugesendet. \nKursleitung: RamadhutaPreis: 30 € oder 2 Kurseinheiten 10er Karte Golden Yoga DresdenAnmeldung: https://ramadhuta-yoga.de/anmeldung/
URL:https://goldenyoga-dresden.de/goldenyogakalender/free-your-body-asana-intensiv/
LOCATION:golden yoga\, Obergraben 2\, Dresden\, 01097
CATEGORIES:Workshops
ATTACH;FMTTYPE=image/jpeg:https://goldenyoga-dresden.de/wp-content/uploads/2020/08/HerzChakraMeditation-e1614965209277.jpg
GEO:51.0597919;13.7424735
X-APPLE-STRUCTURED-LOCATION;VALUE=URI;X-ADDRESS=golden yoga Obergraben 2 Dresden 01097;X-APPLE-RADIUS=500;X-TITLE=Obergraben 2:geo:13.7424735,51.0597919
END:VEVENT
END:VCALENDAR