BEGIN:VCALENDAR
VERSION:2.0
PRODID:-//Golden Yoga - ECPv6.2.9//NONSGML v1.0//EN
CALSCALE:GREGORIAN
METHOD:PUBLISH
X-ORIGINAL-URL:https://goldenyoga-dresden.de
X-WR-CALDESC:Veranstaltungen für Golden Yoga
REFRESH-INTERVAL;VALUE=DURATION:PT1H
X-Robots-Tag:noindex
X-PUBLISHED-TTL:PT1H
BEGIN:VTIMEZONE
TZID:Europe/Berlin
BEGIN:DAYLIGHT
TZOFFSETFROM:+0100
TZOFFSETTO:+0200
TZNAME:CEST
DTSTART:20250330T010000
END:DAYLIGHT
BEGIN:STANDARD
TZOFFSETFROM:+0200
TZOFFSETTO:+0100
TZNAME:CET
DTSTART:20251026T010000
END:STANDARD
END:VTIMEZONE
BEGIN:VEVENT
DTSTART;TZID=Europe/Berlin:20250411T193000
DTEND;TZID=Europe/Berlin:20250411T213000
DTSTAMP:20260422T094224
CREATED:20240815T200519Z
LAST-MODIFIED:20250411T152102Z
UID:10000718-1744399800-1744407000@goldenyoga-dresden.de
SUMMARY:Dynamische Atemmeditation: Quantum Light Breath mit Ramadhuta
DESCRIPTION:Breathwork und Lichtatem: Intensiver Atem als Weg der Öffnung und Klärung\, ganz im Moment sein\, Energie und Schwingung erhöhen und dabei alles erlauben\, Schritt für Schritt\, Schicht für Schicht\, Schale für Schale. Unterstützt wird der Prozess von Live-Musik und Klängen. Quantum Light Breath wurde entwickelt von Jeru Kabbal\, als transformierender Atemprozess\, als Weg zum spirituellen Erwachen\, zum nach Hause kommen. QLB vereint und komprimiert Erfahrungen aus Vipassana\, dynamischer Osho-Meditation und Herzöffnung. Die Technik ist sehr machtvoll und bedarf Reinheit und Klarheit im Körper. \nAtme Dich frei – Befreie Dich von einengenden Mustern – Lass Deine Ängste und Spannungen los – Löse Dich von Stress und Ärger – Erhöhe Dein Energieniveau – Erlange mehr geistige Klarheit – Öffne Dich für das Hier und Jetzt \nBitte Augen-/Schlafmaske mitbringen. \nKursleitung: Ramadhuta/ Musik: u.a. Axel Kabbe\nPreis: € 25 \nOrt: Golden Yoga Dresden\, Obergraben 2\, 01097 Dresden\nAnmeldung: https://ramadhuta-yoga.de/anmeldung/
URL:https://goldenyoga-dresden.de/goldenyogakalender/dynamische-atemmeditation-quantum-light-breath-mit-ramadhuta/2025-04-11/
LOCATION:golden yoga\, Obergraben 2\, Dresden\, 01097
CATEGORIES:Konzerte & Events,Workshops,Yogastunden extra
ATTACH;FMTTYPE=image/jpeg:https://goldenyoga-dresden.de/wp-content/uploads/2020/08/Dephine01-e1666964934672.jpg
GEO:51.0597919;13.7424735
X-APPLE-STRUCTURED-LOCATION;VALUE=URI;X-ADDRESS=golden yoga Obergraben 2 Dresden 01097;X-APPLE-RADIUS=500;X-TITLE=Obergraben 2:geo:13.7424735,51.0597919
END:VEVENT
BEGIN:VEVENT
DTSTART;TZID=Europe/Berlin:20250412T100000
DTEND;TZID=Europe/Berlin:20250412T120000
DTSTAMP:20260422T094224
CREATED:20240819T083126Z
LAST-MODIFIED:20250525T183311Z
UID:10000576-1744452000-1744459200@goldenyoga-dresden.de
SUMMARY:Yoga & Klang - Masterclass mit Ramadhuta & Friends
DESCRIPTION:Wir laden Dich ein zu einer musikalischen Yogastunde! \nHatha-Yoga als Tanz der Polaritäten\, Stabilität und Festigkeit ausbalanciert mit Leichtigkeit\, Weite\, Freude. Das zu erreichen bedarf es klarer Ausrichtung und bewusster Aktivität. Mittler dabei ist der Atem\, das Geschenk des Lebens. Erst wenn wir diese Balance gefunden haben\, kann die Energie fließen und sich die volle Wirkung entfalten. Yoga wird so eine sinnliche Erfahrung des ganzen Seins. \nFinde das Glück auf dem Weg zu Deinen Zielen. Vielleicht fängst Du gleich damit an. Es gibt immer Gründe JETZT schon glücklich zu sein. Wofür bist Du dankbar. Für wen bist Du dankbar. Erschaffe diesen Zustand\, Glück zu empfinden\, dankbar zu sein. Das Universum schaut Dir zu\, wenn Du Freunde\, Glück erschaffst wird es Dich unterstützen\, wird Dein Glück vergrößern\, das Universum ist Fülle. \nKursleitung: Ramadhuta/ Musik: wechselnde Gäste\nEnergieausgleich: 25 Euro oder Einheit 10er Karte + Spende für Musik\nOrt: Golden Yoga Dresden\, Obergraben 2\, 01097 Dresden \nTeilnehmerzahl ist begrenzt\, Anmeldung wird empfohlen: https://ramadhuta-yoga.de/anmeldung/
URL:https://goldenyoga-dresden.de/goldenyogakalender/yoga-klang-masterclass-mit-ramadhuta-friends/2025-04-12/
LOCATION:golden yoga\, Obergraben 2\, Dresden\, 01097
CATEGORIES:Konzerte & Events,Yogastunden extra
ATTACH;FMTTYPE=image/jpeg:https://goldenyoga-dresden.de/wp-content/uploads/2020/08/DSC_2028-e1678119586236.jpg
GEO:51.0597919;13.7424735
X-APPLE-STRUCTURED-LOCATION;VALUE=URI;X-ADDRESS=golden yoga Obergraben 2 Dresden 01097;X-APPLE-RADIUS=500;X-TITLE=Obergraben 2:geo:13.7424735,51.0597919
END:VEVENT
BEGIN:VEVENT
DTSTART;TZID=Europe/Berlin:20250413T090000
DTEND;TZID=Europe/Berlin:20250413T170000
DTSTAMP:20260422T094224
CREATED:20240815T195350Z
LAST-MODIFIED:20250105T132648Z
UID:10000663-1744534800-1744563600@goldenyoga-dresden.de
SUMMARY:Offene Jahresgruppe 2025: „New Spirit – New Earth" Yoga\, Atem und Selbsterfahrung mit Ramadhuta
DESCRIPTION:Mit der offenen Jahresgruppe kannst Du tief in Yoga\, Meditationspraxis und Bewusstseinsarbeit eintauchen\, Dich auf vielen Ebenen entdecken oder besser kennenlernen\, Muster erkennen und lösen. Ausgehend von den sieben körperinneren Chakren erweitern wir unsere Wahrnehmung auf das Große und Ganze der Schöpfung. Du lernst Dein Betriebssystem kennen – Deine innere Landkarte und wie Du damit Deine Realität steuern kannst. Schwerpunkte sind Atmung und Energiearbeit\, klassisches Yoga mit Ausrichtung\, Innenreisen\, systemische Techniken\, somatische Übungen\, Begegnung\, Berührung\, Singen\, Lachen und Tanzen. Wir werden uns austauschen\, voneinander lernen und miteinander wachsen. \nDie Jahresgruppe umfasst 7 Seminartage im GOLDEN YOGA Dresden. Für ein gemeinsames Mittagsbuffet bring bitte mit\, was Du gern teilen möchtest. Gern vegetarisch/vegane Vollwertkost. Neu ist dieses Jahr das zusätzliche Treffen am Steinkreis mit Ritual und Initiierung. \nEmpfohlen wird auch die Teilnahme am 4 oder 5-Tage-Retreat – wahlweise Himmelfahrt oder November auf dem Anandahof in Burkersdorf bzw. dem Ephesos-Retreat: Die Magie des Seins – Yoga\, Körperarbeit und Meditation in der Türkei. Zudem gibt es die Möglichkeit jeweils am Freitag vor dem Seminartag am Quantum Light Breath teilzunehmen. \nSeminarinhalte: \n– Meditation\, Pranayama\, Körperarbeit\n– Hatha Yoga\, Ausrichtung\, Bandhas\n– senkrechter Atem\, Verbindung zur Quelle\n– Initiation Räume des Herzens\, Herztempel\n– Heiliger Raum\, Krafttiere\, Archetypen\n– 5 D Aktivierung im vedischen 21 Chakra-System\n– Lichtkörper-Prozess\, Realitätssteuerung\n– Struktur\, Ethos\, Gesetzte\n– Familienstellen auf genetischer Ebene\n– Reinkarnation\, Karma & Ahnenlinien\n– Arbeit mit dem Inneren Kind\n– Lichtatem (Quantum Light Breath)\n– Zirbeldrüsen-Aktivierung\n– Fantasie- und Innenreisen\n– Heart Chakra Meditation\n– Osho Chakra Breathing & Sound Meditation\n– neurogenes Zittern (TRE®)\n– Heilende Hände\, Healing Code\n– Spiegelgesetze und ehrliches Mitteilen\n– Tönen\, Singen\, Gemeinschaft \n* Termine für Jahresgruppe 2025 im Golden Yoga jeweils 9-17 Uhr:\n12.01. 2025 Herz-Chakra und Archetypen des Selbst\n09.02. 2025 Wurzel-Chakra und physische Existenz\n09.03. 2025 Sakral-Chakra und seelische Felder\n13.04. 2025 Solar-Chakra und mentale Räume\n11.05. 2025 Hals-Chakra und heilige Geometrie\n07.09. 2025 Kopf-Chakra und Einheitsbewusstsein\n09.11. 2025 Kronen-Chakra und Vollendung \n* Treffen am Meral-Steinkreis auf dem Anandahof\, 14-18 Uhr\n31. 05.2025 Friedensarbeit und Realitätssteuerung (Energieausgleich auf Spendenbasis) \nDie Seminartage können auch einzeln besucht werden. Wer die komplette Jahresgruppe gebucht hat\, kann – sollte es auch 2026 eine Jahresgruppe geben – bis zu zwei verpasste Tage im Folgejahr nachholen. Der Besuch der Krönungstreffen (Kronen-Chakra) ist für alle Absolventen der kompletten Jahresgruppe in den Folgejahren kostenfrei. \nEnergieausgleich: 560 €/420 € (ermäßigt) für komplette Jahresgruppe (QLB an den Seminarwochenenden im 1. Jahr inklusive)\, Teilnahme einzelner Sonntage 80 €/ 60 € (ermäßigt)\, Karma-Yoga als Energieausgleich nach Absprache (Unterstützung im Studio)\nAnmeldung: https://ramadhuta-yoga.de/anmeldung \n* 12.-19.10.2024 Ephesos-Retreat: Die Magie des Seins – Yoga\, Körperarbeit und Meditation 6-Tage an der türkischen Ägäis mit Ramadhuta\nhttps://ramadhuta-yoga.de/Termine/ephesos-retreat-2024-ramadhuta/\n* 20.-24.11.2024 New Spirit 5-Tage-Retreat (Buß- und Bettag) – Yoga\, Atem & Selbsterfahrung mit Ramadhuta\nhttps://ramadhuta-yoga.de/Termine/new-spirit-5-tage-retreat-yoga-atem-selbsterfahrung-buss-und-bettag/\n* 29.05.-01.06.2025 New Spirit 4-Tage-Retreat (Himmelfahrt) – Yoga\, Atem & Selbsterfahrung mit Ramadhuta\nhttps://ramadhuta-yoga.de/Termine/new-spirit-4-tage-retreat-himmelfahrt-yoga-atem-selbsterfahrung/\n* 27.09.-04.10.2025 Ephesos-Retreat: Die Magie des Seins – Yoga\, Körperarbeit und Meditation 6-Tage an der türkischen Ägäis mit Ramadhuta\n* 19.-23.11.2025 New Spirit 5-Tage-Retreat (Buß- und Bettag) – Yoga\, Atem & Selbsterfahrung mit Ramadhuta
URL:https://goldenyoga-dresden.de/goldenyogakalender/offene-jahresgruppe-new-spirit-new-earth-yoga-atem-und-selbsterfahrung-mit-ramadhuta/2025-04-13/
LOCATION:golden yoga\, Obergraben 2\, Dresden\, 01097
CATEGORIES:Jahresgruppe,Seminare,Workshops
ATTACH;FMTTYPE=image/jpeg:https://goldenyoga-dresden.de/wp-content/uploads/2024/08/Chakren-stehend-weit-klein-e1723751620699.jpg
GEO:51.0597919;13.7424735
X-APPLE-STRUCTURED-LOCATION;VALUE=URI;X-ADDRESS=golden yoga Obergraben 2 Dresden 01097;X-APPLE-RADIUS=500;X-TITLE=Obergraben 2:geo:13.7424735,51.0597919
END:VEVENT
BEGIN:VEVENT
DTSTART;TZID=Europe/Berlin:20250413T183000
DTEND;TZID=Europe/Berlin:20250413T203000
DTSTAMP:20260422T094224
CREATED:20240819T083526Z
LAST-MODIFIED:20250916T105530Z
UID:10000716-1744569000-1744576200@goldenyoga-dresden.de
SUMMARY:Yin Yoga & Klänge des Herzens mit Carina und Sonja
DESCRIPTION:Die musikalische Yogastunde zum Sonntag: Yin Yoga und Klänge des Herzens mit Carina und Sonja. Dresdens berührende Mantra-Stimmen erklingen und bezaubern nun im Golden Yoga. Entspannt praktizieren\, sich einkuscheln\, genießen\, loslassen und eintauchen in meditative Klänge\, die Räume öffnen und Welten verbinden. \nCarina führt mit Leichtigkeit und Begeisterung durch die Yin-Yoga-Stunde. Dich erwarten klassische Übungen und neue Impulse für Körper\, Seele und Geist. Lieder und Klänge helfen Dir dabei tiefer zu gehen und Dir selbst nahe zu kommen. \nSonja ist Klang-und Musiktherapeutin. Sie hat in Workshops und Singkreisen vielfältige Erfahrungen mit der heilsamen und berührenden Kraft des Singens gemacht. \nKursleitung: Carina Lieberenz\nMusik: Carina Lieberenz & Sonja Drissen\nEnergieausgleich: 25 Euro oder Einheit 10er Karte + Spende für Musik \nOrt: Golden Yoga Dresden\, Obergraben 2\, 01097 Dresden\nTeilnehmerzahl ist begrenzt\, Anmeldung wird empfohlen: https://ramadhuta-yoga.de/anmeldung/
URL:https://goldenyoga-dresden.de/goldenyogakalender/yin-yoga-klaenge-des-herzens-mit-carina-und-sonja/2025-04-13/
LOCATION:golden yoga\, Obergraben 2\, Dresden\, 01097
CATEGORIES:Konzerte & Events,Yogastunden extra
ATTACH;FMTTYPE=image/jpeg:https://goldenyoga-dresden.de/wp-content/uploads/2024/02/Carina-und-Sonja-e1709240468639.jpg
GEO:51.0597919;13.7424735
X-APPLE-STRUCTURED-LOCATION;VALUE=URI;X-ADDRESS=golden yoga Obergraben 2 Dresden 01097;X-APPLE-RADIUS=500;X-TITLE=Obergraben 2:geo:13.7424735,51.0597919
END:VEVENT
BEGIN:VEVENT
DTSTART;TZID=Europe/Berlin:20250425T190000
DTEND;TZID=Europe/Berlin:20250425T220000
DTSTAMP:20260422T094224
CREATED:20241204T214951Z
LAST-MODIFIED:20250403T080630Z
UID:10000652-1745607600-1745618400@goldenyoga-dresden.de
SUMMARY:Jahreskreisfeste - Maifest - verkörpert\, bewegt & sinnlich mit Kosilona & Annette
DESCRIPTION:Atem – Körper – Bewegung – Berührung \nWir feiern die 8 Feste des Jahreskreises als Sonnenfeste in der Verbindung mit deinem Körper. In diesem Ausdrucksraum kannst du die jeweilige Energie fühlen\, nutzen und dein Selbstvertrauen stärken.\n \nMAIFEST\nPrinzip der Anziehung: Blüte \nContactImprovisation zwischen Körper & Kosmos. BewegungsMeditation. BlütenTanz wurzeln. Schönheit & Anziehung. Verantwortung & Liebe. Resonanz mit der Natur. \nInformationen & Anmeldung bei Kosilona: lebenskunst@posteo.de oder 0152 557 0099\nKosilona www.wurzelndeslebensflusses.de und Annette www.seelenstreichler-lorber.de \n \nLichtMAZEFest\nInspiration & Aufbruch: Erste Zeichen des Erwachens\n31.01.2025 \nFRÜHLINGSGLEICHE\nIdentitätssuche &unbändige Lebenskraft: Jugend\n21.03.2025 \nMAIFEST\nPrinzip der Anziehung: Blüte.\n25.04.2025 \nSommerSONNENWende\nBalance: Polare Kräfte wirken miteinander\n20.06.2025 \nHERBSTGLEICHE\nHaupternte: Tod in der Fülle des Lebens.\n19.09.2025 \nAHNINNENFEST\nVerbindung Vergangenheit & Zukunft: Samen & Wurzeln\n31.10.2025 \nWINTERSONNENWENDE\nZwischenZeit und Innen Raum: Dunkelheit.\n19.12.2025 \nAlle Feste finden 19 – 22 Uhr statt.
URL:https://goldenyoga-dresden.de/goldenyogakalender/jahreskreisfeste-fruehlingsgleiche-verkoerpert-bewegt-sinnlich-mit-kosilona-annette/
LOCATION:golden yoga\, Obergraben 2\, Dresden\, 01097
CATEGORIES:Jahresgruppe,Performance,Workshops
ATTACH;FMTTYPE=image/jpeg:https://goldenyoga-dresden.de/wp-content/uploads/2024/12/Maifestweb2025.jpg
GEO:51.0597919;13.7424735
X-APPLE-STRUCTURED-LOCATION;VALUE=URI;X-ADDRESS=golden yoga Obergraben 2 Dresden 01097;X-APPLE-RADIUS=500;X-TITLE=Obergraben 2:geo:13.7424735,51.0597919
END:VEVENT
BEGIN:VEVENT
DTSTART;TZID=Europe/Berlin:20250426T080000
DTEND;TZID=Europe/Berlin:20250427T130000
DTSTAMP:20260422T094224
CREATED:20250330T082016Z
LAST-MODIFIED:20250407T081110Z
UID:10000714-1745654400-1745758800@goldenyoga-dresden.de
SUMMARY:Einführung in die Contact Improvisation – Workshop mit Valentina
DESCRIPTION:Der Workshop ermöglicht eine feine\, erste Begegnung mit der Contact Improvisation. Der Körper wird durch eine morgendliche FineArtYoga Praxis gut vorbereitet und darf\ngeschmeidig und atmend nach einer stärkenden Frühstückspause in den 2. Teil des Workshops gehen: Kontemplativer Tanz im Kontext der Contact Improvisation. Hierbei\nlernt ihr behutsam erste Kontakte mit dem Raum\, dem Augenblick\, Dir selbst und den anderen Menschen zu gestalten. Nach einem gemeinsamen gemütlichen Mittagessen und genügend Zeit zum Ausruhen folgt dann der Nachmittag mit konkreten Techniken der Contact Improvisation und viel Zeit zum Tanzen. \nAm 2. Tag vertiefen wir unsere morgendliche FineArtYoga Praxis\, bereiten den Körper sanft und bewusst vor und integrieren wohltuende Techniken der Contact Improvisation. Nach einer stärkenden Frühstückspause gehen wir wieder in die nun etwas kürzere Kontemplative Tanzpraxis und krönen unseren Workshop mit einer\nContact Improvisation Jam. In der Jam können wir frei improvisieren auf allen Raumebenen\, den Tanzenden zuschauen\, wenn wir eine Pause brauchen\, vielleicht wird es\nein langes Duett oder Trio\, aus dem Du erst am Ende der Jam wieder auftauchst weil es so schön fließt. \nEin gemeinsamer Abschluß geht bis 13:00. Dann könnt Ihr den Sonntag noch so richtig schön genießen mit Eurem wachen\, lebendigen Körper! \nZeiten: Sa 26. April 8:00 – 18:00 & So 27. April 8.00 – 13:00\nKosten: 120€ / ermäßigt 100€\nAnmeldung: fluideum@gmail.com
URL:https://goldenyoga-dresden.de/goldenyogakalender/einfuehrung-in-die-contact-improvisation-workshop-mit-valentina/
LOCATION:golden yoga\, Obergraben 2\, Dresden\, 01097
CATEGORIES:Seminare,Workshops
ATTACH;FMTTYPE=image/jpeg:https://goldenyoga-dresden.de/wp-content/uploads/2025/03/valentina-cabro-3.jpg
GEO:51.0597919;13.7424735
X-APPLE-STRUCTURED-LOCATION;VALUE=URI;X-ADDRESS=golden yoga Obergraben 2 Dresden 01097;X-APPLE-RADIUS=500;X-TITLE=Obergraben 2:geo:13.7424735,51.0597919
END:VEVENT
BEGIN:VEVENT
DTSTART;TZID=Europe/Berlin:20250427T170000
DTEND;TZID=Europe/Berlin:20250427T210000
DTSTAMP:20260422T094224
CREATED:20240528T203122Z
LAST-MODIFIED:20250417T053633Z
UID:10000506-1745773200-1745787600@goldenyoga-dresden.de
SUMMARY:Kakao & Kuscheln - Conscious Cuddle Experience mit Ulrike
DESCRIPTION:Herzöffnung pur mit zeremoniellem Kakao und bewusstem Kuscheln \nLass dich bei der CCE – Kakao & Kuscheln verzaubern von einer Atmosphäre der Achtsamkeit\, Sicherheit und Wärme\, in der du berühren\, berührt werden\, Spaß haben und es dir richtig gut gehen lassen kannst. Die Regeln der Conscious Cuddle Experience bieten einen sicheren Rahmen; die Verbindung mit zeremoniellem Kakao kann die Kuschelerfahrung noch tiefer\, intensiver und sanfter machen. Denn Kakao ist nicht nur die herzöffnendste Pflanze\, die es gibt\, sie bringt dich auch zu mehr Klarheit und Selbstbestimmung. Sie unterstützt die bewusste Verbindung zu dem\, was deinem inneren Bedürfnis entspricht. Zeig dich damit… verletzlich\, schön\, wunderbar\, einzigartig.\nLass dich fallen und genieße. \nGemeinsam lassen wir die Magie dieser wunderbaren Pflanze auf uns wirken\, tauchen ein in herzöffnende Übungen und kuscheln uns in den 7. Himmel. Die Basis sind die Regeln der Conscious Cuddle Experience. \nAblauf: Willkommenskreis | Vorstellen des Regelwerks | herzöffnender Übungsblock | Kakaozeremonie | freie Kuschelrunde | Abschlusskreis \nMarta Ulrike ist augebildete Kuscheltherapeutin\, Kuschelpartyleiterin\, Yogalehrerin\, Holistic Bodyworkerin\, Begleiterin bei emotionalen Prozessen. Es ist ihr ein besonderes Anliegen\, einen nährenden Raum der Sicherheit und Klarheit zu bieten. \nLinks:\nhttps://kuschelraum.de/kuschelparty-dresden-ulrike/\nhttps://kuschelraum.de/events/kakao-kuschelparty-dresden-27-04-2025/ \nSchau auch gern in die FAQs und die AGB: https://kuschelraum.de/kuschelpartys/#faq \nDatum: Sonntag\, 27.04.2025 17-21.00 Uhr\nOrt: Golden Yoga Dresden\, Obergraben 2\, 01097 Dresden \nAusgleich: 35 €/ erm. 25 € / bringe jemand Neues mit und Ihr zahlt beide zusammen 50 €\nAnmeldung: ulrike@kuschelraum.de ; 01577 – 77 108 99 \nFacebook: Hier!\nTelegram: https://t.me/kuscheln_dresden
URL:https://goldenyoga-dresden.de/goldenyogakalender/kakao-kuscheln-conscious-cuddle-experience-mit-ulrike/
LOCATION:golden yoga\, Obergraben 2\, Dresden\, 01097
CATEGORIES:Konzerte & Events,Performance,Workshops
ATTACH;FMTTYPE=image/jpeg:https://goldenyoga-dresden.de/wp-content/uploads/2024/03/CCE-Kakao-Kuscheln-mit-Ulrike-1.jpg
GEO:51.0597919;13.7424735
X-APPLE-STRUCTURED-LOCATION;VALUE=URI;X-ADDRESS=golden yoga Obergraben 2 Dresden 01097;X-APPLE-RADIUS=500;X-TITLE=Obergraben 2:geo:13.7424735,51.0597919
END:VEVENT
END:VCALENDAR