BEGIN:VCALENDAR
VERSION:2.0
PRODID:-//Golden Yoga - ECPv6.2.9//NONSGML v1.0//EN
CALSCALE:GREGORIAN
METHOD:PUBLISH
X-WR-CALNAME:Golden Yoga
X-ORIGINAL-URL:https://goldenyoga-dresden.de
X-WR-CALDESC:Veranstaltungen für Golden Yoga
REFRESH-INTERVAL;VALUE=DURATION:PT1H
X-Robots-Tag:noindex
X-PUBLISHED-TTL:PT1H
BEGIN:VTIMEZONE
TZID:Europe/Berlin
BEGIN:DAYLIGHT
TZOFFSETFROM:+0100
TZOFFSETTO:+0200
TZNAME:CEST
DTSTART:20250330T010000
END:DAYLIGHT
BEGIN:STANDARD
TZOFFSETFROM:+0200
TZOFFSETTO:+0100
TZNAME:CET
DTSTART:20251026T010000
END:STANDARD
END:VTIMEZONE
BEGIN:VEVENT
DTSTART;TZID=Europe/Berlin:20250613T190000
DTEND;TZID=Europe/Berlin:20250613T201500
DTSTAMP:20260422T045310
CREATED:20241204T082820Z
LAST-MODIFIED:20250307T082942Z
UID:10000646-1749841200-1749845700@goldenyoga-dresden.de
SUMMARY:DANCE YOGA mit Nitya
DESCRIPTION:Musik trägt uns fließend durch YogaFlow-Sequenzen.\nGemeinsam authentisch dynamisch bewegen. Verbunden mit dem Atem\, den Körper spüren\, Energien zum Fließen bringen. Lebensfreude. \nTermine 2025  Fr 28.3. | Fr 13.6. | Sa 6.9. | Sa 8.11.\nTermine 2026  Fr 23.1. | Fr 13.3. | Fr 5.6. | Fr 25.9. | Fr 20.11.\nimmer 19 Uhr 75 min \nAnmeldung direkt bei Nitya | mail@sonnemond-yoga.de | sonnemond-yoga.de\nEintritt 20 € bar \n \n  \n 
URL:https://goldenyoga-dresden.de/goldenyogakalender/dance-yoga-mit-nitya/2025-06-13/
LOCATION:golden yoga\, Obergraben 2\, Dresden\, 01097
CATEGORIES:Performance,Workshops,Yogakurse,Yogastunden extra
ATTACH;FMTTYPE=image/jpeg:https://goldenyoga-dresden.de/wp-content/uploads/2024/12/dance-yoga-2025-kalender-vorschaubild.jpg
GEO:51.0597919;13.7424735
X-APPLE-STRUCTURED-LOCATION;VALUE=URI;X-ADDRESS=golden yoga Obergraben 2 Dresden 01097;X-APPLE-RADIUS=500;X-TITLE=Obergraben 2:geo:13.7424735,51.0597919
END:VEVENT
BEGIN:VEVENT
DTSTART;TZID=Europe/Berlin:20250620T190000
DTEND;TZID=Europe/Berlin:20250620T223000
DTSTAMP:20260422T045310
CREATED:20241204T220427Z
LAST-MODIFIED:20250409T070622Z
UID:10000653-1750446000-1750458600@goldenyoga-dresden.de
SUMMARY:Jahreskreisfeste - SommerSonnenWende - verkörpert\, bewegt & sinnlich mit Kosilona & Stefanie
DESCRIPTION:Atem – Körper – Bewegung – Berührung \nWir feiern die 8 Feste des Jahreskreises als Sonnenfeste in der Verbindung mit deinem Körper. In diesem Ausdrucksraum kannst du die jeweilige Energie fühlen\, nutzen und dein Selbstvertrauen stärken. \nSommerSONNENWende\nBalance: Polare Kräfte wirken miteinander \nZur SommerSonnenWende feiern Himmel und Erde Hoch-Zeit. Stefanie Rinke aus Berlin erklärt einführend das Verständnis von der Göttin und ihrem König in vor-patriarchalen Zeiten. Danach laden wir euch zu einem sehr besonderen sinnlichen Ritual ein. “Die Göttin & ihr König”\nhttps://wurzelndeslebensflusses.de/Die-Goettin-ihr-Koenig/ \nSchwellÜbertritt im Tanz der Polaritäten \nAchtsam-nährende Selbsterfahrung in Verbindung mit matriarchaler Spiritualität \nInformationen & Anmeldung bei Kosilona: lebenskunst@posteo.de oder 0152 557 0099\nKosten 55 €/ Paare 100€\nKosilona www.wurzelndeslebensflusses.de \n \nLichtMAZEFest\nInspiration & Aufbruch: Erste Zeichen des Erwachens\n31.01.2025 \nFRÜHLINGSGLEICHE\nIdentitätssuche &unbändige Lebenskraft: Jugend\n21.03.2025 \nMAIFEST\nPrinzip der Anziehung: Blüte.\n25.04.2025 \nSommerSONNENWende\nBalance: Polare Kräfte wirken miteinander\n20.06.2025 \nHERBSTGLEICHE\nHaupternte: Tod in der Fülle des Lebens.\n19.09.2025 \nAHNINNENFEST\nVerbindung Vergangenheit & Zukunft: Samen & Wurzeln\n31.10.2025 \nWINTERSONNENWENDE\nZwischenZeit und Innen Raum: Dunkelheit.\n19.12.2025 \nAlle Feste finden 19 – 22 Uhr statt.
URL:https://goldenyoga-dresden.de/goldenyogakalender/jahreskreisfeste-sommersonnenwende-verkoerpert-bewegt-sinnlich-mit-kosilona-annette/
LOCATION:golden yoga\, Obergraben 2\, Dresden\, 01097
CATEGORIES:Jahresgruppe,Performance,Workshops
ATTACH;FMTTYPE=image/jpeg:https://goldenyoga-dresden.de/wp-content/uploads/2024/12/SSW-2025.jpg
GEO:51.0597919;13.7424735
X-APPLE-STRUCTURED-LOCATION;VALUE=URI;X-ADDRESS=golden yoga Obergraben 2 Dresden 01097;X-APPLE-RADIUS=500;X-TITLE=Obergraben 2:geo:13.7424735,51.0597919
END:VEVENT
BEGIN:VEVENT
DTSTART;TZID=Europe/Berlin:20250622T170000
DTEND;TZID=Europe/Berlin:20250622T200000
DTSTAMP:20260422T045310
CREATED:20241219T112956Z
LAST-MODIFIED:20241219T113215Z
UID:10000657-1750611600-1750622400@goldenyoga-dresden.de
SUMMARY:Yoni Steaming Zeremonie - Heile deinen Schoßraum mit Tina Tschenker von Geh-Fühlen
DESCRIPTION:Der Schoßraum wird als Quelle der Schöpfung und Lebensenergie betrachtet – ein Zentrum\, das sowohl physisch als auch energetisch gepflegt werden möchte. Durch das Steaming kannst du alte Muster\, Verletzungen und Traumata loslassen und dich wieder mit deiner inneren Weiblichkeit verbinden. \nIch lade dich ein\, die kraftvolle Praxis des Yoni Steaming in einem geschützten und achtsamen Raum zu erleben. Mit warmem Kräuterdampf unterstützen wir gemeinsam die Heilung deines Schoßraums – sei es nach Verletzungen\, bei Traumata oder um deine Weiblichkeit bewusst zu ehren. Diese uralte Zeremonie reinigt\, entspannt und schenkt dir Momente tiefer Selbstfürsorge und Balance. Sie fördert nicht nur die körperliche Regeneration\, sondern auch emotionale Klarheit und inneren Frieden. Nimm dir Zeit\, dich selbst neu zu entdecken und deinen Schoßraum in Liebe zu nähren. \n16.03.2025\, 17 – 20 Uhr\n22.06.2025\, 17 – 20 Uhr\n13.09.2025\, 17 – 20 Uhr\n07.12.2025\, 17 – 20 Uhr \nDie Teilnehmerinnenzahl ist pro Zeremonie auf 6 begrenzt. \nAnmeldung: direkt bei Tina unter https://www.geh-fühlen.de/veranstaltungen-termine oder 0173 8556509
URL:https://goldenyoga-dresden.de/goldenyogakalender/yoni-steaming-zeremonie-heile-deinen-schossraum-mit-tina-tschenker-von-geh-fuehlen/2025-06-22/
LOCATION:golden yoga\, Obergraben 2\, Dresden\, 01097
CATEGORIES:Seminare,Workshops
ATTACH;FMTTYPE=image/jpeg:https://goldenyoga-dresden.de/wp-content/uploads/2024/12/Tina_Yoni_Zeremonie.jpg
GEO:51.0597919;13.7424735
X-APPLE-STRUCTURED-LOCATION;VALUE=URI;X-ADDRESS=golden yoga Obergraben 2 Dresden 01097;X-APPLE-RADIUS=500;X-TITLE=Obergraben 2:geo:13.7424735,51.0597919
END:VEVENT
END:VCALENDAR