BEGIN:VCALENDAR
VERSION:2.0
PRODID:-//Golden Yoga - ECPv6.2.9//NONSGML v1.0//EN
CALSCALE:GREGORIAN
METHOD:PUBLISH
X-WR-CALNAME:Golden Yoga
X-ORIGINAL-URL:https://goldenyoga-dresden.de
X-WR-CALDESC:Veranstaltungen für Golden Yoga
REFRESH-INTERVAL;VALUE=DURATION:PT1H
X-Robots-Tag:noindex
X-PUBLISHED-TTL:PT1H
BEGIN:VTIMEZONE
TZID:Europe/Berlin
BEGIN:DAYLIGHT
TZOFFSETFROM:+0100
TZOFFSETTO:+0200
TZNAME:CEST
DTSTART:20250330T010000
END:DAYLIGHT
BEGIN:STANDARD
TZOFFSETFROM:+0200
TZOFFSETTO:+0100
TZNAME:CET
DTSTART:20251026T010000
END:STANDARD
END:VTIMEZONE
BEGIN:VEVENT
DTSTART;TZID=Europe/Berlin:20251005T180000
DTEND;TZID=Europe/Berlin:20251005T200000
DTSTAMP:20260421T202931
CREATED:20241105T151127Z
LAST-MODIFIED:20241107T102804Z
UID:10000627-1759687200-1759694400@goldenyoga-dresden.de
SUMMARY:Klangreise: Tiefe Entspannung und Selbsterfahrung bei einer klanggestützten Meditation mit Tina
DESCRIPTION:Klangreise – tiefe Entspannung und Selbsterfahrung bei einer klanggestützten Meditation mit Tina \nKlangreisen sind Kompositionen\, in denen Wort und Klang so miteinander verwoben werden\, dass sie dem Zuhörenden helfen\, in eine wohltuend tiefgreifende Entspannung zu gelangen. In einem geschützten Raum möchte ich dich mit auf eine ganz besondere Reise zu dir selbst und deinen Möglichkeiten begleiten. \nKlangschalenschwingungen sind in der Lage\, Disharmonien auszugleichen. Wo Unordnung herrscht\, wird Ordnung hergestellt. Kohärenz und Harmonie entstehen durch die Klangschwingungen\, welche sich auf das Nervensystem auswirken. \nKlang ist in der Lage\, Gehirnwellen zu synchronisieren\, Harmonie zu schaffen und somit den Geist tief zu beruhigen. Dieser Zustand führt zum Abbau des Stresshormons Cortisol und fördert die Ausschüttung von Glückshormonen. Auf diese Weise wird das Bewusstsein für das Zusammenspiel zwischen Körper und Geist erhöht\, was zu mehr Achtsamkeit und Wohlbefinden führt. \nKursleitung: Tina Tschenker (Klangtherapeutin)\nOrt: Golden Yoga Dresden\, Obergraben 2\, 01097 Dresden \nUhrzeit je nach Termin\nAusgleich: 20 Euro pro Teilnehmer/in \nAnmeldung über x0173x8556509 oder geh-fuehlen@gmx.de oder direkt über geh-fühlen.de
URL:https://goldenyoga-dresden.de/goldenyogakalender/klangreise-tiefe-entspannung-und-selbsterfahrung-bei-einer-klanggestuetzen-meditation-mit-tina-2/2025-10-05/
LOCATION:golden yoga\, Obergraben 2\, Dresden\, 01097
ATTACH;FMTTYPE=image/jpeg:https://goldenyoga-dresden.de/wp-content/uploads/2024/11/Tina-Tschenker-Klangreise-neu-klein.jpg
GEO:51.0597919;13.7424735
X-APPLE-STRUCTURED-LOCATION;VALUE=URI;X-ADDRESS=golden yoga Obergraben 2 Dresden 01097;X-APPLE-RADIUS=500;X-TITLE=Obergraben 2:geo:13.7424735,51.0597919
END:VEVENT
BEGIN:VEVENT
DTSTART;TZID=Europe/Berlin:20251024T183000
DTEND;TZID=Europe/Berlin:20251024T200000
DTSTAMP:20260421T202931
CREATED:20250926T070700Z
LAST-MODIFIED:20250926T070700Z
UID:10000735-1761330600-1761336000@goldenyoga-dresden.de
SUMMARY:Yoga und Gutes tun - CharityYoga
DESCRIPTION:“Dinge\, die dir als winzig klein und unmerklich erscheinen\, können für einen anderen die Welt bedeuten!” \nLasst uns gemeinsam mit Yoga achtsamer mit uns und mit anderen sein. Voller Respekt füreinander da sein. Unser Glück mit Menschen teilen\, die leider nicht so viel davon haben. Lasst uns gemeinsam bewegen\, um zu bewegen. \nAlle Einnahmen werden im Rahmen der KernZone gespendet. Die KernZone\, ist eine privatorganisierte Charityparty\, die seit 16 Jahren unser Herzensprojekt ist. Am 15.11.2025 rocken wir wieder gemeinsam mit wundervollen Menschen den Dancefloor im GloryClub Dresden\, ganz nach dem Motto “Tanzen und Gutes tun”. Sei auch hier gern dabei! \nAnmeldung\nMeldet euch bitte bei mir an\, um euch einen Platz zu sichern.\n0162-9720694 oder info@karinakoehler.de \nBeitrag\nDu entscheidest\, wie viel du geben möchtest. \nIm Anschluss an unsere Yogazeit\, erzählen wir gern über unsere Projekte\, die wir unterstützen. Frag mich auch gern\, zuvor per Mail\, WhatsApp oder Anruf\, die Fragen\, die du hast. \nIch bin Karina – Yogalehrerin\, Teil des KernZone Teams und freue mich sehr\, dich auf der Matte zu sehen!\nAlles Liebe\, Karina.\n♥☀ \nErfahre hier gern mehr über mich: www.karinakoehler.de oder auf IG: @wild_and_slow sowie über die KernZone auf IG: @tanzenundgutestun
URL:https://goldenyoga-dresden.de/goldenyogakalender/yoga-und-gutes-tun-charityyoga-2/
LOCATION:golden yoga\, Obergraben 2\, Dresden\, 01097
CATEGORIES:Konzerte & Events,Workshops,Yogastunden extra
ATTACH;FMTTYPE=image/png:https://goldenyoga-dresden.de/wp-content/uploads/2025/09/Yoga-und-Gutes-tun-Einladung.png
GEO:51.0597919;13.7424735
X-APPLE-STRUCTURED-LOCATION;VALUE=URI;X-ADDRESS=golden yoga Obergraben 2 Dresden 01097;X-APPLE-RADIUS=500;X-TITLE=Obergraben 2:geo:13.7424735,51.0597919
END:VEVENT
BEGIN:VEVENT
DTSTART;TZID=Europe/Berlin:20251025T090000
DTEND;TZID=Europe/Berlin:20251025T120000
DTSTAMP:20260421T202931
CREATED:20241103T074416Z
LAST-MODIFIED:20250919T115318Z
UID:10000604-1761382800-1761393600@goldenyoga-dresden.de
SUMMARY:Workshop: Ehrliches Mitteilen trifft Neurogenes Zittern - mit Anna und Ramadhuta
DESCRIPTION:Workshop: Ehrliches Mitteilen trifft Neurogenes Zittern – mit Anna und Ramadhuta \n* Wie kann ich einen unangenehmen Stau an Energie in meinem Körper freisetzen?\n* Welche konkreten Körperübungen helfen mir (auch im Alltag) meine im Körper gespeicherten Traumata Schicht für Schicht abzubauen?\n* Wie kann ich das vielleicht erste Mal in meinem Leben eine Beziehung/Verbindung als sicher empfinden und zugleich dabei gut bei MIR sein?\n* Wie fühlt es sich an meine Grenzen klarer wahrzunehmen\, diese integer zu wahren und zugleich im Kontakt mit anderen zu sein?\n* Wie fühlt es sich an\, wenn ich mich in einer Gruppe an (fremden) Menschen öffne und beginne Vertrauen\, Sicherheit und dabei mehr Selbstsicherheit zu erfahren?\n* Wie kann ich unbewusst ablaufende Prozesse wie z.B. Ohnmacht\, Angst\, Identifikationen und veraltete Projektionen in mein Bewusstsein holen und überwinden? \nGemeinsam begeben wir uns auf eine intensive Reise in die Welt unserer Traumata – und zu den Schätzen\, die noch hinter ihnen verborgen liegen. 😄\nRamadhuta navigiert uns spielerisch und leicht durch die Prozesse unseres Körpers\, eingebettet in komplexes und essentielles Wissen und die Zusammenhänge um Themen wie das autonome Nervensystem\, Traumata und Beziehungen. Sicher angeleitet erforschen wir unsere ganz eigenen Traumata-Energien\, um diese durch Körperübungen mehr und mehr freizusetzen. Neurogenes Zittern oder Tension & Trauma Release Exercises ist eine einfach zu erlernende Folge von Übungen. Der Körper reagiert darauf mit Zittern\, was als Lösung von Stress- und Trauma-Energien verstanden wird. Die Technik ermöglicht Körper und Psyche zu einem natürlichen Gleichgewicht zurückzukehren. \nIm 2. Teil führt Anna uns in das Ehrliche Mitteilen ein\, beantwortet Fragen zum Vorgehen\, als auch zu den Hintergründen. Anschließend schenken wir uns gemeinsam als große Gruppe den Raum der authentischen\, heilsamen Begegnung – als Gruppe praktizieren wir das Ehrliche Mitteilen nach Gopal Norbert Klein.\nAuf all deinen Ebenen in diesem Workshop berührt\, dürfen lang angestaute Energien nun im sicheren Kontakt mit anderen wieder ins Fließen kommen\, alte Traumata sich lösen\, befreien und schließlich ganz natürlich und leicht transformieren. Welch´ eine magische Reise – hin zu deinem wahren Selbst. 😄 \nOffen für Fortgeschrittene und Einsteiger! \nVoraussetzung: Merkblatt gründlich gelesen und EM im Kern verstanden (weitere Infos nach Anmeldung)\nTermin: 25.10. 2025 (Ssamstag) / 9:00-12:00 Uhr\nOrt: Golden Yoga Dresden\, Obergraben 2\, 01097 Dresden\nKosten: 30€ (25€ ermäßigt)\nAnmeldung: https://ramadhuta-yoga.de/anmeldung/ \nWir freuen uns auf eine tief wirksame Erfahrung auf allen Ebenen mit euch 😄.\nAnna & Ramadhuta\n🙏🌅🙏 \nAnna Tichomirowa\nhttps://www.seelenberauscht.de/\nRamadhuta:\nhttps://ramadhuta-yoga.de \n 
URL:https://goldenyoga-dresden.de/goldenyogakalender/workshop-ehrliches-mitteilen-trifft-neurogenes-zittern-mit-anna-und-ramadhuta-4/
LOCATION:golden yoga\, Obergraben 2\, Dresden\, 01097
CATEGORIES:Seminare,Workshops
ATTACH;FMTTYPE=image/jpeg:https://goldenyoga-dresden.de/wp-content/uploads/2022/11/teaserbox_63075695-e1669844893484.jpg
GEO:51.0597919;13.7424735
X-APPLE-STRUCTURED-LOCATION;VALUE=URI;X-ADDRESS=golden yoga Obergraben 2 Dresden 01097;X-APPLE-RADIUS=500;X-TITLE=Obergraben 2:geo:13.7424735,51.0597919
END:VEVENT
BEGIN:VEVENT
DTSTART;TZID=Europe/Berlin:20251026T110000
DTEND;TZID=Europe/Berlin:20251026T170000
DTSTAMP:20260421T202931
CREATED:20251001T071352Z
LAST-MODIFIED:20251001T071442Z
UID:10000738-1761476400-1761498000@goldenyoga-dresden.de
SUMMARY:Vision Day Retreat für Frauen
DESCRIPTION:Du Liebe\,\n\n\n\n\n\n\n\n\nStell dir einen Tag vor\, der ganz dir gehört – ein Retreat\, das dich Schritt für Schritt näher zu deinen tiefsten Wünschen und Träumen führt. \nWir beginnen sanft mit einem Ankommen und ersten Begegnungen\, bevor wir in PRANA eintauchen – eine wohltuende Verbindung aus Yoga\, Qi Gong und Shiatsu\, die Körper und Geist in Balance bringt. Im Anschluss öffnet eine Kakaozeremonie mit Soundbath dein Herz. In einer geführten Meditationbegegnest du deinem Zukunfts-Ich\, voller Klarheit und Inspiration. Nach einer erfrischenden Mittagspause folgt eine kurze Körperaktivierung\, die dich mit neuer Energie auflädt. Danach gestaltest du dein ganz persönliches Vision Board – ein kreativer Prozess\, bei dem du deine Träume sichtbar machst und spürst\, wie sie greifbarer werden. Gestärkt tauchst du in die tiefe Kraft der Breathwork Journey ein. Hier erfährst du das Gesetz der Anziehung am eigenen Körper: Durch bewusste Atemtechniken verbindest du dich intensiv mit der Energie deiner Visionen und lässt sie in dir lebendig werden. Zum Abschluss kommen wir in einer gemeinsamen Runde zusammen – ein Moment der Dankbarkeit\, des Teilens und der Verbundenheit. \nSo gehst du mit einem kraftvollen Vision Board\, einem gestärkten Herzen und dem tiefen Vertrauen nach Hause\, dass deine Träume bereit sind\, von dir gelebt zu werden. \n✨ **Was dich erwartet:** \n– Prana & Bodyart: Sanfte Bewegungen und Flows\, um dich mit deinem Körper zu verbinden. \n– Kakaozeremonie mit Soundbath & Meditation: Eine herzöffnende Erfahrung\, die dich tiefer mit dir selbst verbindet und heilenden Klängen\, dazu haben wir eine passende Meditation kreiiert\, die dich zu deinem Zukunfts-ICH führt. \n– Vision Bord : Kreiere dein Visionboard für 2026 \nDer Vision Board Workshop bietet eine kreative Plattform\, um persönliche Ziele und Träume durch die Gestaltung eines individuellen Vision Boards sichtbar zu machen. \nBreathwork-Journey – 70 Min: \n“Das gesetz der Anziehung” Manfifestiere dein Wünsche und Träume um aktiv durch deine Gedanken\, Frequenz und natürlich auch passende Handlungen das in dein Leben zu ziehen\, was du dir tief im Inneren wünschst. \n-> inkl. leckeres veganes Mittagessen \, Snacks\, Wasser & Tee \nErlebe einen Tag voller Achtsamkeit\, Inspiration und tiefer Verbindung. Lass uns gemeinsam eine **Auszeit** gestalten\, die dich mit neuer Energie und Leichtigkeit erfüllt. \nUhrzeit: von 11:00 Uhr bis ca.17:00 Uhr\nPreis: €149 \nWir freuen uns auf dich! 💕 \nSandra & Stefanie \n\n\n\n\nLink zur Buchung: https://www.eventbrite.de/e/dresden-special-day-retreat-vision-day-transformation-breathwork-journey-tickets-1268525557089?aff=ebdsoporgprofile
URL:https://goldenyoga-dresden.de/goldenyogakalender/vision-day-retreat-fuer-frauen/
LOCATION:golden yoga\, Obergraben 2\, Dresden\, 01097
CATEGORIES:Konzerte & Events,Seminare,Workshops
ATTACH;FMTTYPE=image/png:https://goldenyoga-dresden.de/wp-content/uploads/2025/10/Day-Retreat-169-Dresden.png
GEO:51.0597919;13.7424735
X-APPLE-STRUCTURED-LOCATION;VALUE=URI;X-ADDRESS=golden yoga Obergraben 2 Dresden 01097;X-APPLE-RADIUS=500;X-TITLE=Obergraben 2:geo:13.7424735,51.0597919
END:VEVENT
BEGIN:VEVENT
DTSTART;TZID=Europe/Berlin:20251026T183000
DTEND;TZID=Europe/Berlin:20251026T203000
DTSTAMP:20260421T202931
CREATED:20240819T083526Z
LAST-MODIFIED:20250916T105530Z
UID:10000733-1761503400-1761510600@goldenyoga-dresden.de
SUMMARY:Yin Yoga & Klänge des Herzens mit Carina und Sonja
DESCRIPTION:Die musikalische Yogastunde zum Sonntag: Yin Yoga und Klänge des Herzens mit Carina und Sonja. Dresdens berührende Mantra-Stimmen erklingen und bezaubern nun im Golden Yoga. Entspannt praktizieren\, sich einkuscheln\, genießen\, loslassen und eintauchen in meditative Klänge\, die Räume öffnen und Welten verbinden. \nCarina führt mit Leichtigkeit und Begeisterung durch die Yin-Yoga-Stunde. Dich erwarten klassische Übungen und neue Impulse für Körper\, Seele und Geist. Lieder und Klänge helfen Dir dabei tiefer zu gehen und Dir selbst nahe zu kommen. \nSonja ist Klang-und Musiktherapeutin. Sie hat in Workshops und Singkreisen vielfältige Erfahrungen mit der heilsamen und berührenden Kraft des Singens gemacht. \nKursleitung: Carina Lieberenz\nMusik: Carina Lieberenz & Sonja Drissen\nEnergieausgleich: 25 Euro oder Einheit 10er Karte + Spende für Musik \nOrt: Golden Yoga Dresden\, Obergraben 2\, 01097 Dresden\nTeilnehmerzahl ist begrenzt\, Anmeldung wird empfohlen: https://ramadhuta-yoga.de/anmeldung/
URL:https://goldenyoga-dresden.de/goldenyogakalender/yin-yoga-klaenge-des-herzens-mit-carina-und-sonja/2025-10-26/
LOCATION:golden yoga\, Obergraben 2\, Dresden\, 01097
CATEGORIES:Konzerte & Events,Yogastunden extra
ATTACH;FMTTYPE=image/jpeg:https://goldenyoga-dresden.de/wp-content/uploads/2024/02/Carina-und-Sonja-e1709240468639.jpg
GEO:51.0597919;13.7424735
X-APPLE-STRUCTURED-LOCATION;VALUE=URI;X-ADDRESS=golden yoga Obergraben 2 Dresden 01097;X-APPLE-RADIUS=500;X-TITLE=Obergraben 2:geo:13.7424735,51.0597919
END:VEVENT
BEGIN:VEVENT
DTSTART;TZID=Europe/Berlin:20251031T190000
DTEND;TZID=Europe/Berlin:20251031T220000
DTSTAMP:20260421T202931
CREATED:20250526T092107Z
LAST-MODIFIED:20250526T092107Z
UID:10000725-1761937200-1761948000@goldenyoga-dresden.de
SUMMARY:Jahreskreisfeste - AhnInnenFeste - verkörpert\, bewegt & sinnlich mit Kosilona & Aruna
DESCRIPTION:AhnInnenFest – Zwischenzeit. Das Ungeborene. Die Verbindung von Vergangenheit und Zukunft. Samen und Wurzeln. mit Kosilona & Aruna \nIn der dunklen Zeit verweben sich Diesseits und Jenseits. Wir laden euch zu feinem Spinnen und Weben mit dem Unsichtbaren und doch Fühlbaren ein. Zart und Fein. Begegnung darf entstehen\, kreuzen. Aruna führt mit der AhnenFloßMeditation zu deinen Ahnen. ZwischenRäume dürfen sich öffnen… \nInfos  https://wurzelndeslebensflusses.de/AHNINNENFEST/\nAnmeldung bei Kosilona: lebenskunst@posteo.de oder 0152 557 0099\nKosilona www.wurzelndeslebensflusses.de \n \nAHNINNENFEST\nVerbindung Vergangenheit & Zukunft: Samen & Wurzeln\n31.10.2025 \nWINTERSONNENWENDE\nZwischenZeit und Innen Raum: Dunkelheit.\n19.12.2025 \nAlle Feste finden 19 – 22 Uhr statt.
URL:https://goldenyoga-dresden.de/goldenyogakalender/jahreskreisfeste-ahninnenfeste-verkoerpert-bewegt-sinnlich-mit-kosilona-aruna/
LOCATION:golden yoga\, Obergraben 2\, Dresden\, 01097
CATEGORIES:Jahresgruppe,Performance,Workshops
ATTACH;FMTTYPE=image/jpeg:https://goldenyoga-dresden.de/wp-content/uploads/2025/05/AhnInnenFest-2025.jpg
GEO:51.0597919;13.7424735
X-APPLE-STRUCTURED-LOCATION;VALUE=URI;X-ADDRESS=golden yoga Obergraben 2 Dresden 01097;X-APPLE-RADIUS=500;X-TITLE=Obergraben 2:geo:13.7424735,51.0597919
END:VEVENT
END:VCALENDAR