BEGIN:VCALENDAR
VERSION:2.0
PRODID:-//Golden Yoga - ECPv6.2.9//NONSGML v1.0//EN
CALSCALE:GREGORIAN
METHOD:PUBLISH
X-ORIGINAL-URL:https://goldenyoga-dresden.de
X-WR-CALDESC:Veranstaltungen für Golden Yoga
REFRESH-INTERVAL;VALUE=DURATION:PT1H
X-Robots-Tag:noindex
X-PUBLISHED-TTL:PT1H
BEGIN:VTIMEZONE
TZID:Europe/Berlin
BEGIN:DAYLIGHT
TZOFFSETFROM:+0100
TZOFFSETTO:+0200
TZNAME:CEST
DTSTART:20250330T010000
END:DAYLIGHT
BEGIN:STANDARD
TZOFFSETFROM:+0200
TZOFFSETTO:+0100
TZNAME:CET
DTSTART:20251026T010000
END:STANDARD
END:VTIMEZONE
BEGIN:VEVENT
DTSTART;TZID=Europe/Berlin:20251101T100000
DTEND;TZID=Europe/Berlin:20251101T120000
DTSTAMP:20260421T184953
CREATED:20250131T100537Z
LAST-MODIFIED:20250206T132306Z
UID:10000680-1761991200-1761998400@goldenyoga-dresden.de
SUMMARY:PartnerYoga mit Nitya & Tammo
DESCRIPTION:  \nYoga heißt Einheit\, Verbindung mit dir selbst\, dem Universum und bei unserer Yogasession auch mit (d)einem*r Partner*in. Praktizieren zwei Menschen gemeinsam\, verbinden sie sich\, schwingen miteinander und gehen in Resonanz. PartnerYoga heißt\, sich mit Vertrauen\, Bewusstheit und Achtsamkeit aufeinander einzulassen und sich und den Partner zu spüren. Zu zweit kannst du mehr Beweglichkeit erzielen\, neue Erfahrungen in bekannten Yogaübungen machen und die Freude am Bewegen und Erleben teilen. \nKursleitung: Nitya \nKosten: 26 € pro Person\n \nZeit: 10:00 – 12:00 Uhr \nAnmeldung\nNitya 0178 1358098 | nitya@goldenyoga-dresden.de | sonnemond-yoga.de
URL:https://goldenyoga-dresden.de/goldenyogakalender/partneryoga-mit-nitya-tammo-4/2025-11-01/
LOCATION:golden yoga\, Obergraben 2\, Dresden\, 01097
CATEGORIES:Workshops,Yogastunden extra
ATTACH;FMTTYPE=image/jpeg:https://goldenyoga-dresden.de/wp-content/uploads/2021/06/doppelboot.jpg
GEO:51.0597919;13.7424735
X-APPLE-STRUCTURED-LOCATION;VALUE=URI;X-ADDRESS=golden yoga Obergraben 2 Dresden 01097;X-APPLE-RADIUS=500;X-TITLE=Obergraben 2:geo:13.7424735,51.0597919
END:VEVENT
BEGIN:VEVENT
DTSTART;TZID=Europe/Berlin:20251101T140000
DTEND;TZID=Europe/Berlin:20251101T200000
DTSTAMP:20260421T184953
CREATED:20250106T110249Z
LAST-MODIFIED:20250108T162651Z
UID:10000667-1762005600-1762027200@goldenyoga-dresden.de
SUMMARY:Raus aus dem Verstand\, rein ins Gefühl! Yoga & Massage
DESCRIPTION:November-Special: Leichnamsluck trifft Wolkenflug\nAnfänger und Geübte willkommen! Wir bleiben stofflich begrenzt. Leichnams-Luck trifft Wolkenflug. Wir nehmen uns bewusst Zeit für Körper\, Seele und Geist. Mit Yoga kommst Du ganz bei Dir und im Raum an. Mit unserer schönen Herz-Meditation öffnen wir unser Herz für das Mensch sein und verbinden uns mit der Gruppe.\nIm Ritual erfahren wir tiefe Entspannung\, ein meditatives Wohlwollen und geben uns dem LOSLASSEN hin\, lassen geschehen und vertrauen. Danach wirst du unter Anleitung noch in den Himmel gehoben mit einer feinen tantrischen Kopfmassage.\nZwei Rituale in Einem. Mit Anleitung und Skript für zu Hause\nKosten: 100 € pro Person\nAnmeldung: per WhatsApp 0152 53365933 oder per E-Mail sandra@nacktfalter.de\nSeminarleitung: Sandra Klein mit Assistenzteam\nwww.nacktfalter.de\nwww.privattantra.de\nLiebe Grüße\,\nSandra und Max
URL:https://goldenyoga-dresden.de/goldenyogakalender/raus-aus-dem-verstand-rein-ins-gefuehl-yoga-massage/
LOCATION:golden yoga\, Obergraben 2\, Dresden\, 01097
CATEGORIES:Seminare,Workshops
ATTACH;FMTTYPE=image/jpeg:https://goldenyoga-dresden.de/wp-content/uploads/2025/01/ws-sandra-klein-11_2025.jpg
ORGANIZER;CN="Sandra Klein":MAILTO:sandra@nacktfalter.de
GEO:51.0597919;13.7424735
X-APPLE-STRUCTURED-LOCATION;VALUE=URI;X-ADDRESS=golden yoga Obergraben 2 Dresden 01097;X-APPLE-RADIUS=500;X-TITLE=Obergraben 2:geo:13.7424735,51.0597919
END:VEVENT
BEGIN:VEVENT
DTSTART;TZID=Europe/Berlin:20251102T180000
DTEND;TZID=Europe/Berlin:20251102T200000
DTSTAMP:20260421T184953
CREATED:20241105T151127Z
LAST-MODIFIED:20241107T102804Z
UID:10000628-1762106400-1762113600@goldenyoga-dresden.de
SUMMARY:Klangreise: Tiefe Entspannung und Selbsterfahrung bei einer klanggestützten Meditation mit Tina
DESCRIPTION:Klangreise – tiefe Entspannung und Selbsterfahrung bei einer klanggestützten Meditation mit Tina \nKlangreisen sind Kompositionen\, in denen Wort und Klang so miteinander verwoben werden\, dass sie dem Zuhörenden helfen\, in eine wohltuend tiefgreifende Entspannung zu gelangen. In einem geschützten Raum möchte ich dich mit auf eine ganz besondere Reise zu dir selbst und deinen Möglichkeiten begleiten. \nKlangschalenschwingungen sind in der Lage\, Disharmonien auszugleichen. Wo Unordnung herrscht\, wird Ordnung hergestellt. Kohärenz und Harmonie entstehen durch die Klangschwingungen\, welche sich auf das Nervensystem auswirken. \nKlang ist in der Lage\, Gehirnwellen zu synchronisieren\, Harmonie zu schaffen und somit den Geist tief zu beruhigen. Dieser Zustand führt zum Abbau des Stresshormons Cortisol und fördert die Ausschüttung von Glückshormonen. Auf diese Weise wird das Bewusstsein für das Zusammenspiel zwischen Körper und Geist erhöht\, was zu mehr Achtsamkeit und Wohlbefinden führt. \nKursleitung: Tina Tschenker (Klangtherapeutin)\nOrt: Golden Yoga Dresden\, Obergraben 2\, 01097 Dresden \nUhrzeit je nach Termin\nAusgleich: 20 Euro pro Teilnehmer/in \nAnmeldung über x0173x8556509 oder geh-fuehlen@gmx.de oder direkt über geh-fühlen.de
URL:https://goldenyoga-dresden.de/goldenyogakalender/klangreise-tiefe-entspannung-und-selbsterfahrung-bei-einer-klanggestuetzen-meditation-mit-tina-2/2025-11-02/
LOCATION:golden yoga\, Obergraben 2\, Dresden\, 01097
ATTACH;FMTTYPE=image/jpeg:https://goldenyoga-dresden.de/wp-content/uploads/2024/11/Tina-Tschenker-Klangreise-neu-klein.jpg
GEO:51.0597919;13.7424735
X-APPLE-STRUCTURED-LOCATION;VALUE=URI;X-ADDRESS=golden yoga Obergraben 2 Dresden 01097;X-APPLE-RADIUS=500;X-TITLE=Obergraben 2:geo:13.7424735,51.0597919
END:VEVENT
BEGIN:VEVENT
DTSTART;TZID=Europe/Berlin:20251107T193000
DTEND;TZID=Europe/Berlin:20251107T213000
DTSTAMP:20260421T184953
CREATED:20240815T200519Z
LAST-MODIFIED:20250411T152102Z
UID:10000702-1762543800-1762551000@goldenyoga-dresden.de
SUMMARY:Dynamische Atemmeditation: Quantum Light Breath mit Ramadhuta
DESCRIPTION:Breathwork und Lichtatem: Intensiver Atem als Weg der Öffnung und Klärung\, ganz im Moment sein\, Energie und Schwingung erhöhen und dabei alles erlauben\, Schritt für Schritt\, Schicht für Schicht\, Schale für Schale. Unterstützt wird der Prozess von Live-Musik und Klängen. Quantum Light Breath wurde entwickelt von Jeru Kabbal\, als transformierender Atemprozess\, als Weg zum spirituellen Erwachen\, zum nach Hause kommen. QLB vereint und komprimiert Erfahrungen aus Vipassana\, dynamischer Osho-Meditation und Herzöffnung. Die Technik ist sehr machtvoll und bedarf Reinheit und Klarheit im Körper. \nAtme Dich frei – Befreie Dich von einengenden Mustern – Lass Deine Ängste und Spannungen los – Löse Dich von Stress und Ärger – Erhöhe Dein Energieniveau – Erlange mehr geistige Klarheit – Öffne Dich für das Hier und Jetzt \nBitte Augen-/Schlafmaske mitbringen. \nKursleitung: Ramadhuta/ Musik: u.a. Axel Kabbe\nPreis: € 25 \nOrt: Golden Yoga Dresden\, Obergraben 2\, 01097 Dresden\nAnmeldung: https://ramadhuta-yoga.de/anmeldung/
URL:https://goldenyoga-dresden.de/goldenyogakalender/dynamische-atemmeditation-quantum-light-breath-mit-ramadhuta/2025-11-07/
LOCATION:golden yoga\, Obergraben 2\, Dresden\, 01097
CATEGORIES:Konzerte & Events,Workshops,Yogastunden extra
ATTACH;FMTTYPE=image/jpeg:https://goldenyoga-dresden.de/wp-content/uploads/2020/08/Dephine01-e1666964934672.jpg
GEO:51.0597919;13.7424735
X-APPLE-STRUCTURED-LOCATION;VALUE=URI;X-ADDRESS=golden yoga Obergraben 2 Dresden 01097;X-APPLE-RADIUS=500;X-TITLE=Obergraben 2:geo:13.7424735,51.0597919
END:VEVENT
BEGIN:VEVENT
DTSTART;TZID=Europe/Berlin:20251108T100000
DTEND;TZID=Europe/Berlin:20251108T120000
DTSTAMP:20260421T184953
CREATED:20251019T203236Z
LAST-MODIFIED:20251102T171224Z
UID:10000723-1762596000-1762603200@goldenyoga-dresden.de
SUMMARY:Yoga & Klang - Masterclass - mit Ramadhuta & Carina
DESCRIPTION:Wir laden Dich ein zu einer musikalischen Yogastunde! \nHatha-Yoga als Tanz der Polaritäten\, Stabilität und Festigkeit ausbalanciert mit Leichtigkeit\, Weite\, Freude. Das zu erreichen bedarf es klarer Ausrichtung und bewusster Aktivität. Mittler dabei ist der Atem\, das Geschenk des Lebens. Erst wenn wir diese Balance gefunden haben\, kann die Energie fließen und sich die volle Wirkung entfalten. Yoga wird so eine sinnliche Erfahrung des ganzen Seins. \nFinde das Glück auf dem Weg zu Deinen Zielen. Vielleicht fängst Du gleich damit an. Es gibt immer Gründe JETZT schon glücklich zu sein. Wofür bist Du dankbar. Für wen bist Du dankbar. Erschaffe diesen Zustand\, Glück zu empfinden\, dankbar zu sein. Das Universum schaut Dir zu\, wenn Du Freunde\, Glück erschaffst wird es Dich unterstützen\, wird Dein Glück vergrößern\, das Universum ist Fülle. \nKursleitung: Ramadhuta/ Musik: Carina\nEnergieausgleich: 25 Euro oder Einheit 10er Karte + Spende für Musik\nOrt: Golden Yoga Dresden\, Obergraben 2\, 01097 Dresden \nTeilnehmerzahl ist begrenzt\, Anmeldung wird empfohlen: https://ramadhuta-yoga.de/anmeldung/
URL:https://goldenyoga-dresden.de/goldenyogakalender/yoga-klang-masterclass-mit-ramadhuta-friends-2/
LOCATION:golden yoga\, Obergraben 2\, Dresden\, 01097
CATEGORIES:Konzerte & Events,Yogastunden extra
ATTACH;FMTTYPE=image/jpeg:https://goldenyoga-dresden.de/wp-content/uploads/2020/08/DSC_2028-e1678119586236.jpg
GEO:51.0597919;13.7424735
X-APPLE-STRUCTURED-LOCATION;VALUE=URI;X-ADDRESS=golden yoga Obergraben 2 Dresden 01097;X-APPLE-RADIUS=500;X-TITLE=Obergraben 2:geo:13.7424735,51.0597919
END:VEVENT
BEGIN:VEVENT
DTSTART;TZID=Europe/Berlin:20251108T130000
DTEND;TZID=Europe/Berlin:20251108T210000
DTSTAMP:20260421T184953
CREATED:20250919T072432Z
LAST-MODIFIED:20250919T072432Z
UID:10000734-1762606800-1762635600@goldenyoga-dresden.de
SUMMARY:*** 5 Jahre golden yoga ***
DESCRIPTION:*** 5 Jahre golden yoga ***\nSa 8. November 2025 \nEinladung zu unserem Jubiläum!\nMit großer Dankbarkeit blicken wir auf die vergangenen Jahre zurück – voller Höhen\, Herausforderungen und wertvoller Begegnungen. Ohne eure Unterstützung\, eure Teilnahme und euer Vertrauen wären wir nicht da\, wo wir heute sind. Danke\, dass ihr diesen Weg mit uns geht. Von Herzen\, Nitya\, Ramadhuta & Team \nab 13 Uhr\nZeit der offenen Tür – Begegnung & Austausch \n16 – 18 Uhr\nMitsingkonzert mit Carina & Ramadhuta \n19 – 20:15 Uhr\nDance Yoga mit Nitya \nAlle Veranstaltungen auf Spendenbasis.
URL:https://goldenyoga-dresden.de/goldenyogakalender/5-jahre-golden-yoga/
LOCATION:golden yoga\, Obergraben 2\, Dresden\, 01097
CATEGORIES:Konzerte & Events,Yogastunden extra
ATTACH;FMTTYPE=image/png:https://goldenyoga-dresden.de/wp-content/uploads/2025/09/5-jahre-golden-yoga-flyer.png
GEO:51.0597919;13.7424735
X-APPLE-STRUCTURED-LOCATION;VALUE=URI;X-ADDRESS=golden yoga Obergraben 2 Dresden 01097;X-APPLE-RADIUS=500;X-TITLE=Obergraben 2:geo:13.7424735,51.0597919
END:VEVENT
BEGIN:VEVENT
DTSTART;TZID=Europe/Berlin:20251108T190000
DTEND;TZID=Europe/Berlin:20251108T201500
DTSTAMP:20260421T184953
CREATED:20250913T203533Z
LAST-MODIFIED:20250917T073628Z
UID:10000648-1762628400-1762632900@goldenyoga-dresden.de
SUMMARY:DANCE YOGA mit Nitya
DESCRIPTION:Musik trägt uns fließend durch YogaFlow-Sequenzen.\nGemeinsam authentisch dynamisch bewegen. Verbunden mit dem Atem\, den Körper spüren\, Energien zum Fließen bringen. Lebensfreude. \nTermine 2025  Sa 8.11. | 19 Uhr 75 min \nAnmeldung direkt bei Nitya | mail@sonnemond-yoga.de | sonnemond-yoga.de\nEintritt 5 Jahre golden yoga 🙂 Eintritt auf Spendenbasis \n \n  \n 
URL:https://goldenyoga-dresden.de/goldenyogakalender/dance-yoga-mit-nitya-2-3/
LOCATION:golden yoga\, Obergraben 2\, Dresden\, 01097
CATEGORIES:Performance,Workshops,Yogakurse,Yogastunden extra
ATTACH;FMTTYPE=image/jpeg:https://goldenyoga-dresden.de/wp-content/uploads/2024/12/dance-yoga-2025-kalender-vorschaubild.jpg
GEO:51.0597919;13.7424735
X-APPLE-STRUCTURED-LOCATION;VALUE=URI;X-ADDRESS=golden yoga Obergraben 2 Dresden 01097;X-APPLE-RADIUS=500;X-TITLE=Obergraben 2:geo:13.7424735,51.0597919
END:VEVENT
BEGIN:VEVENT
DTSTART;TZID=Europe/Berlin:20251109T090000
DTEND;TZID=Europe/Berlin:20251109T170000
DTSTAMP:20260421T184953
CREATED:20240815T195350Z
LAST-MODIFIED:20250105T132648Z
UID:10000666-1762678800-1762707600@goldenyoga-dresden.de
SUMMARY:Offene Jahresgruppe 2025: „New Spirit – New Earth" Yoga\, Atem und Selbsterfahrung mit Ramadhuta
DESCRIPTION:Mit der offenen Jahresgruppe kannst Du tief in Yoga\, Meditationspraxis und Bewusstseinsarbeit eintauchen\, Dich auf vielen Ebenen entdecken oder besser kennenlernen\, Muster erkennen und lösen. Ausgehend von den sieben körperinneren Chakren erweitern wir unsere Wahrnehmung auf das Große und Ganze der Schöpfung. Du lernst Dein Betriebssystem kennen – Deine innere Landkarte und wie Du damit Deine Realität steuern kannst. Schwerpunkte sind Atmung und Energiearbeit\, klassisches Yoga mit Ausrichtung\, Innenreisen\, systemische Techniken\, somatische Übungen\, Begegnung\, Berührung\, Singen\, Lachen und Tanzen. Wir werden uns austauschen\, voneinander lernen und miteinander wachsen. \nDie Jahresgruppe umfasst 7 Seminartage im GOLDEN YOGA Dresden. Für ein gemeinsames Mittagsbuffet bring bitte mit\, was Du gern teilen möchtest. Gern vegetarisch/vegane Vollwertkost. Neu ist dieses Jahr das zusätzliche Treffen am Steinkreis mit Ritual und Initiierung. \nEmpfohlen wird auch die Teilnahme am 4 oder 5-Tage-Retreat – wahlweise Himmelfahrt oder November auf dem Anandahof in Burkersdorf bzw. dem Ephesos-Retreat: Die Magie des Seins – Yoga\, Körperarbeit und Meditation in der Türkei. Zudem gibt es die Möglichkeit jeweils am Freitag vor dem Seminartag am Quantum Light Breath teilzunehmen. \nSeminarinhalte: \n– Meditation\, Pranayama\, Körperarbeit\n– Hatha Yoga\, Ausrichtung\, Bandhas\n– senkrechter Atem\, Verbindung zur Quelle\n– Initiation Räume des Herzens\, Herztempel\n– Heiliger Raum\, Krafttiere\, Archetypen\n– 5 D Aktivierung im vedischen 21 Chakra-System\n– Lichtkörper-Prozess\, Realitätssteuerung\n– Struktur\, Ethos\, Gesetzte\n– Familienstellen auf genetischer Ebene\n– Reinkarnation\, Karma & Ahnenlinien\n– Arbeit mit dem Inneren Kind\n– Lichtatem (Quantum Light Breath)\n– Zirbeldrüsen-Aktivierung\n– Fantasie- und Innenreisen\n– Heart Chakra Meditation\n– Osho Chakra Breathing & Sound Meditation\n– neurogenes Zittern (TRE®)\n– Heilende Hände\, Healing Code\n– Spiegelgesetze und ehrliches Mitteilen\n– Tönen\, Singen\, Gemeinschaft \n* Termine für Jahresgruppe 2025 im Golden Yoga jeweils 9-17 Uhr:\n12.01. 2025 Herz-Chakra und Archetypen des Selbst\n09.02. 2025 Wurzel-Chakra und physische Existenz\n09.03. 2025 Sakral-Chakra und seelische Felder\n13.04. 2025 Solar-Chakra und mentale Räume\n11.05. 2025 Hals-Chakra und heilige Geometrie\n07.09. 2025 Kopf-Chakra und Einheitsbewusstsein\n09.11. 2025 Kronen-Chakra und Vollendung \n* Treffen am Meral-Steinkreis auf dem Anandahof\, 14-18 Uhr\n31. 05.2025 Friedensarbeit und Realitätssteuerung (Energieausgleich auf Spendenbasis) \nDie Seminartage können auch einzeln besucht werden. Wer die komplette Jahresgruppe gebucht hat\, kann – sollte es auch 2026 eine Jahresgruppe geben – bis zu zwei verpasste Tage im Folgejahr nachholen. Der Besuch der Krönungstreffen (Kronen-Chakra) ist für alle Absolventen der kompletten Jahresgruppe in den Folgejahren kostenfrei. \nEnergieausgleich: 560 €/420 € (ermäßigt) für komplette Jahresgruppe (QLB an den Seminarwochenenden im 1. Jahr inklusive)\, Teilnahme einzelner Sonntage 80 €/ 60 € (ermäßigt)\, Karma-Yoga als Energieausgleich nach Absprache (Unterstützung im Studio)\nAnmeldung: https://ramadhuta-yoga.de/anmeldung \n* 12.-19.10.2024 Ephesos-Retreat: Die Magie des Seins – Yoga\, Körperarbeit und Meditation 6-Tage an der türkischen Ägäis mit Ramadhuta\nhttps://ramadhuta-yoga.de/Termine/ephesos-retreat-2024-ramadhuta/\n* 20.-24.11.2024 New Spirit 5-Tage-Retreat (Buß- und Bettag) – Yoga\, Atem & Selbsterfahrung mit Ramadhuta\nhttps://ramadhuta-yoga.de/Termine/new-spirit-5-tage-retreat-yoga-atem-selbsterfahrung-buss-und-bettag/\n* 29.05.-01.06.2025 New Spirit 4-Tage-Retreat (Himmelfahrt) – Yoga\, Atem & Selbsterfahrung mit Ramadhuta\nhttps://ramadhuta-yoga.de/Termine/new-spirit-4-tage-retreat-himmelfahrt-yoga-atem-selbsterfahrung/\n* 27.09.-04.10.2025 Ephesos-Retreat: Die Magie des Seins – Yoga\, Körperarbeit und Meditation 6-Tage an der türkischen Ägäis mit Ramadhuta\n* 19.-23.11.2025 New Spirit 5-Tage-Retreat (Buß- und Bettag) – Yoga\, Atem & Selbsterfahrung mit Ramadhuta
URL:https://goldenyoga-dresden.de/goldenyogakalender/offene-jahresgruppe-new-spirit-new-earth-yoga-atem-und-selbsterfahrung-mit-ramadhuta/2025-11-09/
LOCATION:golden yoga\, Obergraben 2\, Dresden\, 01097
CATEGORIES:Jahresgruppe,Seminare,Workshops
ATTACH;FMTTYPE=image/jpeg:https://goldenyoga-dresden.de/wp-content/uploads/2024/08/Chakren-stehend-weit-klein-e1723751620699.jpg
GEO:51.0597919;13.7424735
X-APPLE-STRUCTURED-LOCATION;VALUE=URI;X-ADDRESS=golden yoga Obergraben 2 Dresden 01097;X-APPLE-RADIUS=500;X-TITLE=Obergraben 2:geo:13.7424735,51.0597919
END:VEVENT
BEGIN:VEVENT
DTSTART;TZID=Europe/Berlin:20251114T190000
DTEND;TZID=Europe/Berlin:20251114T210000
DTSTAMP:20260421T184953
CREATED:20241105T151127Z
LAST-MODIFIED:20241107T102804Z
UID:10000630-1763146800-1763154000@goldenyoga-dresden.de
SUMMARY:Klangreise: Tiefe Entspannung und Selbsterfahrung bei einer klanggestützten Meditation mit Tina
DESCRIPTION:Klangreise – tiefe Entspannung und Selbsterfahrung bei einer klanggestützten Meditation mit Tina \nKlangreisen sind Kompositionen\, in denen Wort und Klang so miteinander verwoben werden\, dass sie dem Zuhörenden helfen\, in eine wohltuend tiefgreifende Entspannung zu gelangen. In einem geschützten Raum möchte ich dich mit auf eine ganz besondere Reise zu dir selbst und deinen Möglichkeiten begleiten. \nKlangschalenschwingungen sind in der Lage\, Disharmonien auszugleichen. Wo Unordnung herrscht\, wird Ordnung hergestellt. Kohärenz und Harmonie entstehen durch die Klangschwingungen\, welche sich auf das Nervensystem auswirken. \nKlang ist in der Lage\, Gehirnwellen zu synchronisieren\, Harmonie zu schaffen und somit den Geist tief zu beruhigen. Dieser Zustand führt zum Abbau des Stresshormons Cortisol und fördert die Ausschüttung von Glückshormonen. Auf diese Weise wird das Bewusstsein für das Zusammenspiel zwischen Körper und Geist erhöht\, was zu mehr Achtsamkeit und Wohlbefinden führt. \nKursleitung: Tina Tschenker (Klangtherapeutin)\nOrt: Golden Yoga Dresden\, Obergraben 2\, 01097 Dresden \nUhrzeit je nach Termin\nAusgleich: 20 Euro pro Teilnehmer/in \nAnmeldung über x0173x8556509 oder geh-fuehlen@gmx.de oder direkt über geh-fühlen.de
URL:https://goldenyoga-dresden.de/goldenyogakalender/klangreise-tiefe-entspannung-und-selbsterfahrung-bei-einer-klanggestuetzen-meditation-mit-tina-2/2025-11-14/
LOCATION:golden yoga\, Obergraben 2\, Dresden\, 01097
ATTACH;FMTTYPE=image/jpeg:https://goldenyoga-dresden.de/wp-content/uploads/2024/11/Tina-Tschenker-Klangreise-neu-klein.jpg
GEO:51.0597919;13.7424735
X-APPLE-STRUCTURED-LOCATION;VALUE=URI;X-ADDRESS=golden yoga Obergraben 2 Dresden 01097;X-APPLE-RADIUS=500;X-TITLE=Obergraben 2:geo:13.7424735,51.0597919
END:VEVENT
BEGIN:VEVENT
DTSTART;TZID=Europe/Berlin:20251115T090000
DTEND;TZID=Europe/Berlin:20251116T160000
DTSTAMP:20260421T184953
CREATED:20200923T130101Z
LAST-MODIFIED:20240205T105525Z
UID:10000471-1763197200-1763308800@goldenyoga-dresden.de
SUMMARY:Seminar – Kinderyoga unterrichten
DESCRIPTION:Kinderyoga unterrichten – ein Seminarfür Pädagog*innen\, Yogalehrer*innen\, Therapeut*innen\, Eltern und Interessierte \nKinder lieben es\, sich wie ein Hund zu dehnen\, wie ein Löwe zu brüllen oder wie eine Schlange zu zischeln. Es gibt mittlerweile zahlreiche wissenschaftliche Studien die belegen\, das Yoga auch für Kinder sehr gut geeignet ist. Es verbessert die Körperhaltung\, fördert Gleichgewicht\, Konzentration und Motorik und kann helfen zu entschleunigen. \nSeminarinhalteWissenswertes & Tipps rund um KinderyogaZiele & WirkungenAufbau einer KinderyogastundeSonnen- und Mondgruß für Kinder42 kindgerechte YogaübungenPartner- und GruppenübungenBewegungsgeschichtenYogaspieleEntspannungsmethodenFantasiereisenAnleitungen für Massagen & Meditationen20 Stundenbilder \nSeminarleitung: Nicolle Ruhner (Nitya) Nitya ist Yogalehrerin\, Yogatherapeutin und Kinderyoga-Spezialistin und hat bereits über 1000 Kinderyoga-Stunden unterrichtet. Als Referentin für Kinderyoga war Nitya deutschlandweit unterwegs. Seit 2005 ist sie begeisterte Yogini und liebt es\, sich zu bewegen\, zu entspannen und in die absolute Ewigkeit einzutauchen. \nKosten297\,50 Euro inkl. Handbuch & BildkartenSet “Yoga mit Mukti” & Teilnahmebescheinigung \nUmfang & Zeiten18 Lerneinheiten á 45 min | Samstag 9 – 18 Uhr & Sonntag 9 – 16 Uhr \nAnmeldung & InfosNitya 0178 1358098 | mail@sonnemond-yoga.de | sonnemond-yoga.de
URL:https://goldenyoga-dresden.de/goldenyogakalender/kinderyoga-unterrichten-2024-06-01/2025-11-15/
LOCATION:golden yoga\, Obergraben 2\, Dresden\, 01097
CATEGORIES:Ausbildung,Seminare,Workshops
ATTACH;FMTTYPE=image/jpeg:https://goldenyoga-dresden.de/wp-content/uploads/2020/09/golden-yoga-Kinderyoga.jpg
GEO:51.0597919;13.7424735
X-APPLE-STRUCTURED-LOCATION;VALUE=URI;X-ADDRESS=golden yoga Obergraben 2 Dresden 01097;X-APPLE-RADIUS=500;X-TITLE=Obergraben 2:geo:13.7424735,51.0597919
END:VEVENT
BEGIN:VEVENT
DTSTART;TZID=Europe/Berlin:20251121T180000
DTEND;TZID=Europe/Berlin:20251123T130000
DTSTAMP:20260421T184953
CREATED:20241206T120623Z
LAST-MODIFIED:20241206T120945Z
UID:10000655-1763748000-1763902800@goldenyoga-dresden.de
SUMMARY:Embryologie verkörpern mit Sarah Schöne
DESCRIPTION:Was die embryonale Zeit uns Unterstützendes für unser Leben und für die Begleitung von Menschen lehren kann \nEin Wochenende\, um viel unterstützendes\, wundersames und verbindendes über die embryonale Zeit zu lernen! \nFür wen: Insebsondere für Hebammen und für Menschen\, die mit anderen Menschen\, insbesondere Schwangeren\, Babys oder Eltern\, arbeiten sowie für (werdende) Eltern selbst. Ebenso für alle\, die in sich Ressourcen aufbauen\, ihren Selbstkontakt stärken oder Unterstützung in ihr Leben und ihre Bewegungsabläufe bringen wollen. \nInhalte und Möglichkeiten:\n• Zentrale Prozesse aus den ersten zwölf Wochen verstehen sowie ihre Qualitäten für sich und für die Begleitung anderer erschließen: Befruchtung\, Einnistung\, erste Differenzierungen der Keimblätter und Bildung von Strukturen (Notochord\, Herz\,…)\n• Eintauchen in die flüssige Umgebung des Embryos und wie uns das in der Einstimmung auf Babys unterstützt\n• Methodenvermittlung über Regulation und das Nervensystem sowie viel Zeit für Austausch über Themen rund um das Begleiten von Menschen (Eltern\, Babys\,…)\n• Lernen von regulierenden Berührungsformen\n• Selbstkontakt und Ressourcen aufbauen\, insbesondere für herausfordernde Situationen\n• das Wunder des Lebens erkunden \nMethoden: Haupthintergrund ist Body Mind Centering®; der Kurs setzt sich zusammen aus Wissensvermittlung durch Sprache\, Bilder und Modelle; Eintauchen in eigene Erfahrungen durch angeleitetes Bewegen; Partnerübungen zum Erlernen von Berührung; Raum für Austausch \n Zeiten\nFr 18.30 – 21 Uhr / Sa 9 – 18 Uhr / So 9 – 12.30 Uhr \nKosten\n150 – 330 € je nach Einkommen\, Richtwert 240€ \nSeminarleitung: Sarah Schöne\nB.sc.\, Somatic Movement Educator in Body Mind Centering®\, Tänzerin\, Gärtnerin \nFragen & Anmeldung an: sarah-schoene@t-online.de
URL:https://goldenyoga-dresden.de/goldenyogakalender/embryologie-verkoerpern-mit-sarah-schoene/
LOCATION:golden yoga\, Obergraben 2\, Dresden\, 01097
CATEGORIES:Seminare
ATTACH;FMTTYPE=image/jpeg:https://goldenyoga-dresden.de/wp-content/uploads/2024/12/Embryologie-Seminar-Vorschaubild.jpg
ORGANIZER;CN="Sarah Sch%C3%B6ne":MAILTO:sarah-schoene@t-online.de
GEO:51.0597919;13.7424735
X-APPLE-STRUCTURED-LOCATION;VALUE=URI;X-ADDRESS=golden yoga Obergraben 2 Dresden 01097;X-APPLE-RADIUS=500;X-TITLE=Obergraben 2:geo:13.7424735,51.0597919
END:VEVENT
BEGIN:VEVENT
DTSTART;TZID=Europe/Berlin:20251123T170000
DTEND;TZID=Europe/Berlin:20251123T190000
DTSTAMP:20260421T184953
CREATED:20240819T083526Z
LAST-MODIFIED:20250916T105530Z
UID:10000640-1763917200-1763924400@goldenyoga-dresden.de
SUMMARY:Yin Yoga & Klänge des Herzens mit Carina und Sonja
DESCRIPTION:Die musikalische Yogastunde zum Sonntag: Yin Yoga und Klänge des Herzens mit Carina und Sonja. Dresdens berührende Mantra-Stimmen erklingen und bezaubern nun im Golden Yoga. Entspannt praktizieren\, sich einkuscheln\, genießen\, loslassen und eintauchen in meditative Klänge\, die Räume öffnen und Welten verbinden. \nCarina führt mit Leichtigkeit und Begeisterung durch die Yin-Yoga-Stunde. Dich erwarten klassische Übungen und neue Impulse für Körper\, Seele und Geist. Lieder und Klänge helfen Dir dabei tiefer zu gehen und Dir selbst nahe zu kommen. \nSonja ist Klang-und Musiktherapeutin. Sie hat in Workshops und Singkreisen vielfältige Erfahrungen mit der heilsamen und berührenden Kraft des Singens gemacht. \nKursleitung: Carina Lieberenz\nMusik: Carina Lieberenz & Sonja Drissen\nEnergieausgleich: 25 Euro oder Einheit 10er Karte + Spende für Musik \nOrt: Golden Yoga Dresden\, Obergraben 2\, 01097 Dresden\nTeilnehmerzahl ist begrenzt\, Anmeldung wird empfohlen: https://ramadhuta-yoga.de/anmeldung/
URL:https://goldenyoga-dresden.de/goldenyogakalender/yin-yoga-klaenge-des-herzens-mit-carina-und-sonja/2025-11-23/
LOCATION:golden yoga\, Obergraben 2\, Dresden\, 01097
CATEGORIES:Konzerte & Events,Yogastunden extra
ATTACH;FMTTYPE=image/jpeg:https://goldenyoga-dresden.de/wp-content/uploads/2024/02/Carina-und-Sonja-e1709240468639.jpg
GEO:51.0597919;13.7424735
X-APPLE-STRUCTURED-LOCATION;VALUE=URI;X-ADDRESS=golden yoga Obergraben 2 Dresden 01097;X-APPLE-RADIUS=500;X-TITLE=Obergraben 2:geo:13.7424735,51.0597919
END:VEVENT
END:VCALENDAR