BEGIN:VCALENDAR
VERSION:2.0
PRODID:-//Golden Yoga - ECPv6.2.9//NONSGML v1.0//EN
CALSCALE:GREGORIAN
METHOD:PUBLISH
X-ORIGINAL-URL:https://goldenyoga-dresden.de
X-WR-CALDESC:Veranstaltungen für Golden Yoga
REFRESH-INTERVAL;VALUE=DURATION:PT1H
X-Robots-Tag:noindex
X-PUBLISHED-TTL:PT1H
BEGIN:VTIMEZONE
TZID:Europe/Berlin
BEGIN:DAYLIGHT
TZOFFSETFROM:+0100
TZOFFSETTO:+0200
TZNAME:CEST
DTSTART:20250330T010000
END:DAYLIGHT
BEGIN:STANDARD
TZOFFSETFROM:+0200
TZOFFSETTO:+0100
TZNAME:CET
DTSTART:20251026T010000
END:STANDARD
END:VTIMEZONE
BEGIN:VEVENT
DTSTART;TZID=Europe/Berlin:20251205T193000
DTEND;TZID=Europe/Berlin:20251205T213000
DTSTAMP:20260421T133955
CREATED:20251113T111214Z
LAST-MODIFIED:20251113T111215Z
UID:10000703-1764963000-1764970200@goldenyoga-dresden.de
SUMMARY:Dynamische Atemmeditation: Quantum Light Breath XL mit Ramadhuta
DESCRIPTION:Breathwork und Lichtatem: Intensiver Atem als Weg der Öffnung und Klärung\, ganz im Moment sein\, Energie und Schwingung erhöhen und dabei alles erlauben\, Schritt für Schritt\, Schicht für Schicht\, Schale für Schale. Unterstützt wird der Prozess Musik und Klängen. Quantum Light Breath wurde entwickelt von Jeru Kabbal\, als transformierender Atemprozess\, als Weg zum spirituellen Erwachen\, zum nach Hause kommen. QLB vereint und komprimiert Erfahrungen aus Vipassana\, dynamischer Osho-Meditation und Herzöffnung. Die Technik ist sehr machtvoll und bedarf Reinheit und Klarheit im Körper. \nAtme Dich frei – Befreie Dich von einengenden Mustern – Lass Deine Ängste und Spannungen los – Löse Dich von Stress und Ärger – Erhöhe Dein Energieniveau – Erlange mehr geistige Klarheit – Öffne Dich für das Hier und Jetzt \nBitte Augen-/Schlafmaske mitbringen. \nKursleitung: Ramadhuta\nPreis: € 25 \nOrt: Golden Yoga Dresden\, Obergraben 2\, 01097 Dresden\nAnmeldung: https://ramadhuta-yoga.de/anmeldung/
URL:https://goldenyoga-dresden.de/goldenyogakalender/dynamische-atemmeditation-quantum-light-breath-mit-ramadhuta-2/
LOCATION:golden yoga\, Obergraben 2\, Dresden\, 01097
CATEGORIES:Konzerte & Events,Workshops,Yogastunden extra
ATTACH;FMTTYPE=image/jpeg:https://goldenyoga-dresden.de/wp-content/uploads/2020/08/Dephine01-e1666964934672.jpg
GEO:51.0597919;13.7424735
X-APPLE-STRUCTURED-LOCATION;VALUE=URI;X-ADDRESS=golden yoga Obergraben 2 Dresden 01097;X-APPLE-RADIUS=500;X-TITLE=Obergraben 2:geo:13.7424735,51.0597919
END:VEVENT
BEGIN:VEVENT
DTSTART;TZID=Europe/Berlin:20251207T170000
DTEND;TZID=Europe/Berlin:20251207T200000
DTSTAMP:20260421T133955
CREATED:20241219T112956Z
LAST-MODIFIED:20241219T113215Z
UID:10000659-1765126800-1765137600@goldenyoga-dresden.de
SUMMARY:Yoni Steaming Zeremonie - Heile deinen Schoßraum mit Tina Tschenker von Geh-Fühlen
DESCRIPTION:Der Schoßraum wird als Quelle der Schöpfung und Lebensenergie betrachtet – ein Zentrum\, das sowohl physisch als auch energetisch gepflegt werden möchte. Durch das Steaming kannst du alte Muster\, Verletzungen und Traumata loslassen und dich wieder mit deiner inneren Weiblichkeit verbinden. \nIch lade dich ein\, die kraftvolle Praxis des Yoni Steaming in einem geschützten und achtsamen Raum zu erleben. Mit warmem Kräuterdampf unterstützen wir gemeinsam die Heilung deines Schoßraums – sei es nach Verletzungen\, bei Traumata oder um deine Weiblichkeit bewusst zu ehren. Diese uralte Zeremonie reinigt\, entspannt und schenkt dir Momente tiefer Selbstfürsorge und Balance. Sie fördert nicht nur die körperliche Regeneration\, sondern auch emotionale Klarheit und inneren Frieden. Nimm dir Zeit\, dich selbst neu zu entdecken und deinen Schoßraum in Liebe zu nähren. \n16.03.2025\, 17 – 20 Uhr\n22.06.2025\, 17 – 20 Uhr\n13.09.2025\, 17 – 20 Uhr\n07.12.2025\, 17 – 20 Uhr \nDie Teilnehmerinnenzahl ist pro Zeremonie auf 6 begrenzt. \nAnmeldung: direkt bei Tina unter https://www.geh-fühlen.de/veranstaltungen-termine oder 0173 8556509
URL:https://goldenyoga-dresden.de/goldenyogakalender/yoni-steaming-zeremonie-heile-deinen-schossraum-mit-tina-tschenker-von-geh-fuehlen/2025-12-07/
LOCATION:golden yoga\, Obergraben 2\, Dresden\, 01097
CATEGORIES:Seminare,Workshops
ATTACH;FMTTYPE=image/jpeg:https://goldenyoga-dresden.de/wp-content/uploads/2024/12/Tina_Yoni_Zeremonie.jpg
GEO:51.0597919;13.7424735
X-APPLE-STRUCTURED-LOCATION;VALUE=URI;X-ADDRESS=golden yoga Obergraben 2 Dresden 01097;X-APPLE-RADIUS=500;X-TITLE=Obergraben 2:geo:13.7424735,51.0597919
END:VEVENT
BEGIN:VEVENT
DTSTART;TZID=Europe/Berlin:20251214T160000
DTEND;TZID=Europe/Berlin:20251214T190000
DTSTAMP:20260421T133955
CREATED:20250926T072314Z
LAST-MODIFIED:20250926T072314Z
UID:10000736-1765728000-1765738800@goldenyoga-dresden.de
SUMMARY:DU & ICH – PartnerYoga
DESCRIPTION:Wie Yoga – nur mit doppeltem Halt\, doppelter Dehnung und doppeltem Spaß! \nPartneryoga ist nicht nur etwas für Paare? Auch mit deiner besten Freundin\, einem guten Freund oder jemandem aus deiner Familie kannst du Partneryoga erfahren. \nBeim “DU & ICH” Lieblingsmenschen Yogaworkshop\, lasst ihr euch voller Vertrauen auf den anderen ein. Eure Körper unterstützen sich gegenseitig\, um so in tiefere Dehnung und Entspannung zu kommen. Achtsame Intensivmomente lassen eure gemeinsame Zeit zu einem ganz besonderen Erlebnis werden. \nGemeinsam atmen. Gemeinsam bewegen. Gemeinsam wachsen. Gemeinsam spüren. Gemeinsam lachen. Gemeinsam sein. Euch gemeinsame Zeit schenken! \nAnmeldung\nMeldet euch bitte bei mir an\, um euch einen Platz als Paar zu sichern.\n0162-9720694 oder info@karinakoehler.de \nBeitrag\n120 € / Paar \nHi – ich bin Karina – Partnerin\, Mama\, Tochter\, Schwester\, Freundin\, Yogalehrerin\, Bodyworkerin\, Kreative\, Naturliebhaberin\, mal wild\, mal langsam und jeden Tag ein bisschen mehr und weniger von allem. \nIch freu mich sehr auf euch!\nAlles Liebe\, Karina.\n♥☀ \nErfahre hier gern mehr über mich: www.karinakoehler.de oder auf IG: @wild_and_slow.
URL:https://goldenyoga-dresden.de/goldenyogakalender/du-ich-partneryoga/2025-12-14/
LOCATION:golden yoga\, Obergraben 2\, Dresden\, 01097
CATEGORIES:Konzerte & Events,Workshops,Yogastunden extra
ATTACH;FMTTYPE=image/jpeg:https://goldenyoga-dresden.de/wp-content/uploads/2025/09/PartnerYoga.jpg
GEO:51.0597919;13.7424735
X-APPLE-STRUCTURED-LOCATION;VALUE=URI;X-ADDRESS=golden yoga Obergraben 2 Dresden 01097;X-APPLE-RADIUS=500;X-TITLE=Obergraben 2:geo:13.7424735,51.0597919
END:VEVENT
BEGIN:VEVENT
DTSTART;TZID=Europe/Berlin:20251219T190000
DTEND;TZID=Europe/Berlin:20251219T220000
DTSTAMP:20260421T133955
CREATED:20250526T092441Z
LAST-MODIFIED:20251028T154603Z
UID:10000726-1766170800-1766181600@goldenyoga-dresden.de
SUMMARY:Jahreskreisfeste - WinterSonnenwende - verkörpert\, bewegt & sinnlich mit Kosilona & Christian
DESCRIPTION:WINTERSONNENWENDE – ZWISCHENZEIT UND INNENRAUM. DUNKELHEIT mit Kosilona & Christian \nGelöst von visueller Information im Außen verbinden wir uns in die sinnliche Welt der DUNKELHEIT. Anderes Sehen\, Spüren\, Gewahrwerden. Im Blindfolden verbinden wir uns die Augen\, lassen sie entspannen. Andere Sinne dürfen tanzen. Und aus der Dunkelheit gebärt sich das LICHT- aus dem Schwarz-das Weiß. Seid herzlich eingeladen\, unvoreingenommen den Tanz des Jahreskreises zu vollenden und die WINTERSONNWENDE zu feiern. \nInfos  https://wurzelndeslebensflusses.de/WinterSonnenWende/\nAnmeldung bei Kosilona: lebenskunst@posteo.de oder 0152 557 0099\nKosilona www.wurzelndeslebensflusses.de
URL:https://goldenyoga-dresden.de/goldenyogakalender/jahreskreisfeste-wintersonnenwende-verkoerpert-bewegt-sinnlich-mit-kosilona-christian/
LOCATION:golden yoga\, Obergraben 2\, Dresden\, 01097
CATEGORIES:Jahresgruppe,Performance,Workshops
ATTACH;FMTTYPE=image/jpeg:https://goldenyoga-dresden.de/wp-content/uploads/2025/05/WinterSonnenWende-2025.jpg
GEO:51.0597919;13.7424735
X-APPLE-STRUCTURED-LOCATION;VALUE=URI;X-ADDRESS=golden yoga Obergraben 2 Dresden 01097;X-APPLE-RADIUS=500;X-TITLE=Obergraben 2:geo:13.7424735,51.0597919
END:VEVENT
BEGIN:VEVENT
DTSTART;TZID=Europe/Berlin:20251221T160000
DTEND;TZID=Europe/Berlin:20251221T173000
DTSTAMP:20260421T133955
CREATED:20250916T083334Z
LAST-MODIFIED:20251125T092837Z
UID:10000729-1766332800-1766338200@goldenyoga-dresden.de
SUMMARY:Weihnachtskonzert mit Carina & Sonja
DESCRIPTION:Weihnachtskonzert mit Carina & Sonja \n:: 4. Advent – 21.12.2025 – 16 Uhr – 1730 Uhr :: \nMusik lieben\, leben\, träumen und dabei einfach SEIN. Die Stimmen von Carina und Sonja verzaubern und bewegen. Das Adventskonzert hat eine lange Tradition. Viele Jahre fand es als Treppenhauskonzert in Pieschen oder der Neustadt statt\, nun zum fünften Mal als Mitsinge-Konzert im Golden Yoga Studio. Gern bringt Eure Familien mit\, es wird auch Stühle zum sitzen geben. \nNach den Konzert treffen wir uns noch zum gemütlichen beisammen sein bis 1830 Uhr. Gern Stollen und Plätzchen mitbringen. \nWir freuen uns auf Euch! \nEnergieausgleich: 12 € – Kinder bis 16 Jahre frei\nOrt: Golden Yoga Dresden\, Obergraben 2\, 01097 Dresden\nAnmeldung: https://ramadhuta-yoga.de/anmeldung/
URL:https://goldenyoga-dresden.de/goldenyogakalender/weihnachtskonzert-mit-carina-sonja/
LOCATION:golden yoga\, Obergraben 2\, Dresden\, 01097
CATEGORIES:Konzerte & Events
ATTACH;FMTTYPE=image/jpeg:https://goldenyoga-dresden.de/wp-content/uploads/2025/09/Weihnachtskonzert-Carina-und-Sonja-1-scaled-e1758012806546.jpg
GEO:51.0597919;13.7424735
X-APPLE-STRUCTURED-LOCATION;VALUE=URI;X-ADDRESS=golden yoga Obergraben 2 Dresden 01097;X-APPLE-RADIUS=500;X-TITLE=Obergraben 2:geo:13.7424735,51.0597919
END:VEVENT
BEGIN:VEVENT
DTSTART;TZID=Europe/Berlin:20251228T170000
DTEND;TZID=Europe/Berlin:20251228T190000
DTSTAMP:20260421T133955
CREATED:20250916T084134Z
LAST-MODIFIED:20251113T111715Z
UID:10000730-1766941200-1766948400@goldenyoga-dresden.de
SUMMARY:Yin Yoga & Klänge des Herzens zum Jahresausklang mit Carina & Ramadhuta
DESCRIPTION:Deine Auszeit in den Rauhnächten: Wir widmen diese Yoga Stunde dem alten Jahr. Mit jeder Yin Haltung\, das alte aufnehmen und loslassen\, um uns dann leer zu machen und tief zu entspannen. Aus der Ruhe heraus Vertrauen fühlen\, dass wir die Kraft haben mit allem zu sein. \nEntspannt und tief praktizieren\, sich einkuscheln\, genießen\, loslassen und eintauchen in meditative Klänge\, die Räume öffnen und Welten verbinden. \nCarina führt Dich mit Leichtigkeit\, Hingabe und Begeisterung durch eine intensive Yin-Yoga-Session. Dich erwarten klassische Übungen sowie neue Impulse für Körper\, Seele und Geist. Lieder und Klänge helfen Dir dabei tiefer zu gehen und Dir selbst nahe zu kommen. Den klanglichen Raum gestaltet Ramadhuta mit Monochord\, Rav Drum\, Gitarre\, Glockenspiel und Klangschalen. \nKursleitung: Carina Lieberenz\nMusik: Carina Lieberenz & Ramadhuta\nEnergieausgleich: 25 Euro oder Einheit 10er Karte + Spende für Musik \nOrt: Golden Yoga Dresden\, Obergraben 2\, 01097 Dresden\nTeilnehmerzahl ist begrenzt\, Anmeldung wird empfohlen: https://ramadhuta-yoga.de/anmeldung/
URL:https://goldenyoga-dresden.de/goldenyogakalender/yin-yoga-klaenge-des-herzens-zum-jahresausklang-mit-carina-ramadhuta/
LOCATION:golden yoga\, Obergraben 2\, Dresden\, 01097
CATEGORIES:Konzerte & Events,Yogastunden extra
ATTACH;FMTTYPE=image/jpeg:https://goldenyoga-dresden.de/wp-content/uploads/2025/09/Carina_ardha-matsyendrasana_02-e1763032629748.jpg
GEO:51.0597919;13.7424735
X-APPLE-STRUCTURED-LOCATION;VALUE=URI;X-ADDRESS=golden yoga Obergraben 2 Dresden 01097;X-APPLE-RADIUS=500;X-TITLE=Obergraben 2:geo:13.7424735,51.0597919
END:VEVENT
BEGIN:VEVENT
DTSTART;TZID=Europe/Berlin:20251231T100000
DTEND;TZID=Europe/Berlin:20251231T120000
DTSTAMP:20260421T133955
CREATED:20250916T084353Z
LAST-MODIFIED:20250916T084418Z
UID:10000731-1767175200-1767182400@goldenyoga-dresden.de
SUMMARY:Yoga & Klang spezial: Best of 2025 - Masterclass mit Ramadhuta & Musik von Axel Kabbe
DESCRIPTION:Kraftvolle\, fließende und herzöffnende Yogastunde – Masterclass zum Jahresabschluss: \nWas gibt es noch zu tun\, was loszulassen? Dein Körper und Dein Atem\, die wissen es. Erlebe Hatha-Yoga als spielerischer Tanz der Polaritäten: Stabilität und Festigkeit ausbalanciert mit Leichtigkeit\, Weite\, Freude. Lass Dich ein auf klare Ausrichtung und bewusster Atmung. Wenn wir die Balance gefunden haben\, kann die Energie spürbar fließen. Yoga wird so eine sinnliche Erfahrung des ganzen Seins. Nicht verpassen. Mehr gibt es im alten Jahr nicht mehr zu tun. \nKursleitung: Ramadhuta/ Musik: Axel Krabbe\nEnergieausgleich: 25 Euro oder Einheit 10er Karte + Spende für Musik\nOrt: Golden Yoga Dresden\, Obergraben 2\, 01097 Dresden \nAnmeldung: https://ramadhuta-yoga.de/anmeldung/
URL:https://goldenyoga-dresden.de/goldenyogakalender/yoga-klang-spezial-best-of-2025-masterclass-mit-ramadhuta-musik-von-axel-kabbe/
LOCATION:golden yoga\, Obergraben 2\, Dresden\, 01097
CATEGORIES:Konzerte & Events,Yogastunden extra
ATTACH;FMTTYPE=image/jpeg:https://goldenyoga-dresden.de/wp-content/uploads/2022/09/AxelandMe-e1663622730711.jpg
GEO:51.0597919;13.7424735
X-APPLE-STRUCTURED-LOCATION;VALUE=URI;X-ADDRESS=golden yoga Obergraben 2 Dresden 01097;X-APPLE-RADIUS=500;X-TITLE=Obergraben 2:geo:13.7424735,51.0597919
END:VEVENT
END:VCALENDAR