BEGIN:VCALENDAR
VERSION:2.0
PRODID:-//Golden Yoga - ECPv6.2.9//NONSGML v1.0//EN
CALSCALE:GREGORIAN
METHOD:PUBLISH
X-WR-CALNAME:Golden Yoga
X-ORIGINAL-URL:https://goldenyoga-dresden.de
X-WR-CALDESC:Veranstaltungen für Golden Yoga
REFRESH-INTERVAL;VALUE=DURATION:PT1H
X-Robots-Tag:noindex
X-PUBLISHED-TTL:PT1H
BEGIN:VTIMEZONE
TZID:Europe/Berlin
BEGIN:DAYLIGHT
TZOFFSETFROM:+0100
TZOFFSETTO:+0200
TZNAME:CEST
DTSTART:20260329T010000
END:DAYLIGHT
BEGIN:STANDARD
TZOFFSETFROM:+0200
TZOFFSETTO:+0100
TZNAME:CET
DTSTART:20261025T010000
END:STANDARD
END:VTIMEZONE
BEGIN:VEVENT
DTSTART;TZID=Europe/Berlin:20260620T100000
DTEND;TZID=Europe/Berlin:20260620T183000
DTSTAMP:20260422T023233
CREATED:20260402T165409Z
LAST-MODIFIED:20260402T165409Z
UID:10000822-1781949600-1781980200@goldenyoga-dresden.de
SUMMARY:Wild & Zart - Frauenkreis mit Vanessa da Silva
DESCRIPTION:Liebe Frau\, \nam 20. Juni lade ich dich herzlich zum Frauenkreis von 10:00-18:30 Uhr ein. \nDieser Workshop liegt mir besonders am Herzen\, denn ich weiß was für ein riesen scheiß Thema Wut sein kann\, wenn wir nie lernen durften damit umzugehen\, nie Raum hatten und haben\, sie mal auszudrücken und eigentlich immer nur am Deckeln sind. \nWie anstrengend und erschöpfend. Unser Nervensystem und somit auch unser Körper und wir als Seele kommen ab einem gewissen Punkt gar nicht mehr zur Ruhe. Oder aber wir haben uns so früh schon damit abgefunden\, dass diese Kraft nicht “sein darf”\, dass wir dauerhaft mit angezogener Handbremse fahren. \nFolgen sind häufige Erkältungen\, Grübelein\, soziale Unsicherheiten und Rückzug\, undefinierbare Schmerzen ohne medizinischen Befund\, Entzündungsprozesse jeglicher Art\, Zyklusbeschwerden\, Stimmungstiefs bis hin zu depressiven oder ängstlichen Dauerzuständen\, sexuelle Unlust und eine permanente Überforderung in alltäglichen Dingen\, sodass du das Gefühl hast\, dein Potenzial einfach nicht auf die Straße zu kriegen. \nDieser Workshop könnte dich unterstützen\, wenn du … \n🌷 aus der Dauer-Erschöpfung raus willst\n🌷 energetisiert\, freudvoll und entspannt sein willst\n🌷 dir mehr Verbindung zu deinem Partner und anderen wünschst\n🌷 du einen gesunden und vitalen Körper haben möchtest\n🌷dir mehr Klarheit und mehr Kraft für deine Lebensgestaltung wünschst \nWie kannst du also dein Leben gestalten\, sodass du immer mehr selbstbestimmt in Freude und Freiheit sein kannst? \nWir erforschen an diesem Tag ein neues (altes) Miteinander unter uns Frauen mit authentischen Sharings. Ich habe jede Menge praktische Übungen zu den Themen Nervensystem regulieren\, Wut ausdrücken und weibliche Kraft parat\, allerdings werden wir als Gruppe unseren ganzen eigenen Flow an diesem Tag kreieren und mit dem mitfließen\, was jede von euch mitbringt und was der Raum einlädt\, sich zu zeigen. \nEs ist an der Zeit\, dass wir als Frauen einzeln und kollektiv aus abhängigkeitsbasierten Strukturen heraus treten und uns als autonome Menschen Beziehungen schaffen\, in denen wir uns vollkommen sicher und angenommen fühlen\, damit wir in unser volles Potenzial erblühen. \nAn diesem Tag fangen wir damit an! \nBist du dabei?\nHast du Fragen?\nMöchtest du dich gleich anmelden?\nSchreib mir gerne hier eine persönliche Nachricht. \nWieviel? 80€ regulär – 60€ ermäßigt \nHerzlich und mit großer Neugier und Vorfreude\,\neure Vanessa \nTelegram/Telefon/Signal: 0162/2055567\nVanessadasilva.de
URL:https://goldenyoga-dresden.de/goldenyogakalender/wild-zart-frauenkreis-mit-vanessa-da-silva/
LOCATION:golden yoga\, Obergraben 2\, Dresden\, 01097
CATEGORIES:Konzerte & Events,Seminare,Workshops
ATTACH;FMTTYPE=image/jpeg:https://goldenyoga-dresden.de/wp-content/uploads/2026/04/signal-2025-12-09-23-00-51-971-1-e1775148758193.jpg
GEO:51.0597919;13.7424735
X-APPLE-STRUCTURED-LOCATION;VALUE=URI;X-ADDRESS=golden yoga Obergraben 2 Dresden 01097;X-APPLE-RADIUS=500;X-TITLE=Obergraben 2:geo:13.7424735,51.0597919
END:VEVENT
END:VCALENDAR