BEGIN:VCALENDAR
VERSION:2.0
PRODID:-//Golden Yoga - ECPv6.2.9//NONSGML v1.0//EN
CALSCALE:GREGORIAN
METHOD:PUBLISH
X-WR-CALNAME:Golden Yoga
X-ORIGINAL-URL:https://goldenyoga-dresden.de
X-WR-CALDESC:Veranstaltungen für Golden Yoga
REFRESH-INTERVAL;VALUE=DURATION:PT1H
X-Robots-Tag:noindex
X-PUBLISHED-TTL:PT1H
BEGIN:VTIMEZONE
TZID:Europe/Berlin
BEGIN:DAYLIGHT
TZOFFSETFROM:+0100
TZOFFSETTO:+0200
TZNAME:CEST
DTSTART:20230326T010000
END:DAYLIGHT
BEGIN:STANDARD
TZOFFSETFROM:+0200
TZOFFSETTO:+0100
TZNAME:CET
DTSTART:20231029T010000
END:STANDARD
END:VTIMEZONE
BEGIN:VEVENT
DTSTART;TZID=Europe/Berlin:20230203T183000
DTEND;TZID=Europe/Berlin:20230203T200000
DTSTAMP:20260423T195202
CREATED:20230111T204031Z
LAST-MODIFIED:20230118T113905Z
UID:10000401-1675449000-1675454400@goldenyoga-dresden.de
SUMMARY:Vortrag: Go Deeper - Meditation\, Bewusstsein & Kreativität mit Swami Jyothirmayah
DESCRIPTION:Worum geht es?\nTiefer gehen bedeutet mehr als nur Konzentration und gründliches Nachdenken.\nEs geht darum\, vorgefasste Meinungen darüber loszulassen\, wer du bist\, was du willst und wie viel Potenzial du hast. Es impliziert\, Klischees hinter sich zu lassen und sich dem Essentiellen zuzuwenden. \nWie gehen wir also tiefer?\nWenn der Geist die tiefste Ruhe findet\, wird er frisch und lebendig. Und nach dieser tiefen Ruhe ist die Konzentration spontan. Ganz natürlich. Konzentration wird mühelos. Wir können ohne Anstrengung nachdenken. \nWenn wir uns entspannen und nach innen gehen\, wächst unsere Intuition und wir erschließen unsere eigene einzigartige Art der Problemlösung – intuitive und personalisierte Lösungen für alles\, was das Leben uns in den Weg stellt. Ein paar Minuten täglicher Meditation sind das größte Geheimnis für kreativen Erfolg. \nDurch Meditation entspannen wir uns in uns selbst\, unser Bewusstsein erstrahlt und Kreativität entsteht. \nDas Geheimnis\, um tiefer zu gehen\, sind ein paar Minuten Atemarbeit und Meditation. In diesem Workshop wird Swami Jyothirmayah nicht nur über die Funktionsweise des Bewusstseins sprechen\, sondern uns auch durch Atemarbeit und Meditation führen und es uns ermöglichen\, mit den feineren Schichten unseres Bewusstseins in Kontakt zu kommen. \nWarum tiefer gehen (Go Deeper) ? \nGanz einfach\, um das Leben in vollen Zügen genießen zu können. Das Beste aus jedem Moment herauszuholen und all das erleben\, was das Leben zu bieten hat\, und bei allem\, was wir tun\, unser Bestes zu geben. \nTiefer gehen ist auch die Essenz der spirituellen Reise. Während wir tiefer graben\, um uns durch ein besonders hartes Training zu pushen\, gehen wir mit der richtigen Anleitung und den richtigen Techniken einfach tiefer in meditative Zustände der Ruhe und Glückseligkeit. \nThe Art of Living bietet an mehreren Standorten in Deutschland einen ein- bis zweistündigen Workshop mit dem Titel „Go Deeper“ mit Swami Jyothirmayah an. Swami Jis Zehn-Städte-Tour bietet uns die Möglichkeit\, die Tiefen unseres Bewusstseins zu erforschen\, empfänglich und verfügbar für unsere persönlichen Bedürfnisse sowie die Bedürfnisse der Gesellschaft zu sein und die in uns verborgene Schönheit zu entdecken. \nWie wird es helfen? \nWer möchte nicht glücklicher\, gesünder\, effizienter und produktiver sein? Going Deeper hilft bei all dem und mehr. \nFinden deine Leidenschaft\nDen Stress des Alltags meistern\nDie Fähigkeit\, mehr zu lächeln\nFinde das schwer fassbare Gleichgewicht im Leben\nSchätze das Leben \nMach mit\, wenn Swami Jyothirmayah es uns ermöglicht\, unser Bewusstsein zu erforschen und Kreativität und Intuition durch Meditation und Atemarbeit zu nutzen. Der Vortrag ist in englischer Sprache und wird live übersetzt. \nSwami Jyothirmayah ist ein erfahrener Schüler von Gurudev Sri Sri Ravi Shankar\, einem weltberühmten spirituellen Meister. Als internationaler Direktor der „The Art of Living Foundation“ bereist er die Welt\, um eine stressfreie Gesellschaft zu fördern und Sri Sri’s Botschaft von Liebe\, Frieden und universeller Gemeinschaft zu verbreiten. Er zeigt beispielhaft\, wie man ein geschäftiges Leben ohne Stress führt und glücklich ist. \nAuf Konferenzen in ganz Europa bietet er Workshops und Vorträge über Meditation\, Atemarbeit und die Anwendung alter Weisheiten auf das aktuelle Leben an. Seine Kurse sind sehr gefragt\, insbesondere wegen der starken und tiefgreifenden Meditationen\, die er anleitet\, und der Klarheit\, mit der er komplexe und tiefgründige Ideen vermittelt. \nEnergieausleich: 12 Euro / 6 Euro ermäßigt\nOrt: Golden Yoga Dresden\, Obergraben 2\, 01097 Dresden\nAnmeldung/Ticketlink: https://www.eventbrite.de/e/go-deeper-dresden-tickets-511545896547 \nVeranstalter: Petra Kiesewetter\, SriSriYoga Lehrerin. SriSriAyurveda Practitioner\nwww.ayurveda-in-dresden.dewww.ayurveda-in-dresden.de
URL:https://goldenyoga-dresden.de/goldenyogakalender/vortrag-go-deeper-meditation-bewusstsein-kreativitaet-mit-swami-jyothirmayah/
LOCATION:golden yoga\, Obergraben 2\, Dresden\, 01097
CATEGORIES:Konzerte & Events,Seminare,Workshops
ATTACH;FMTTYPE=image/jpeg:https://goldenyoga-dresden.de/wp-content/uploads/2023/01/Dresden-DE-e1673473178940.jpg
GEO:51.0597919;13.7424735
X-APPLE-STRUCTURED-LOCATION;VALUE=URI;X-ADDRESS=golden yoga Obergraben 2 Dresden 01097;X-APPLE-RADIUS=500;X-TITLE=Obergraben 2:geo:13.7424735,51.0597919
END:VEVENT
END:VCALENDAR