BEGIN:VCALENDAR
VERSION:2.0
PRODID:-//Golden Yoga - ECPv6.2.9//NONSGML v1.0//EN
CALSCALE:GREGORIAN
METHOD:PUBLISH
X-ORIGINAL-URL:https://goldenyoga-dresden.de
X-WR-CALDESC:Veranstaltungen für Golden Yoga
REFRESH-INTERVAL;VALUE=DURATION:PT1H
X-Robots-Tag:noindex
X-PUBLISHED-TTL:PT1H
BEGIN:VTIMEZONE
TZID:Europe/Berlin
BEGIN:DAYLIGHT
TZOFFSETFROM:+0100
TZOFFSETTO:+0200
TZNAME:CEST
DTSTART:20220327T010000
END:DAYLIGHT
BEGIN:STANDARD
TZOFFSETFROM:+0200
TZOFFSETTO:+0100
TZNAME:CET
DTSTART:20221030T010000
END:STANDARD
END:VTIMEZONE
BEGIN:VEVENT
DTSTART;TZID=Europe/Berlin:20221118T190000
DTEND;TZID=Europe/Berlin:20221118T210000
DTSTAMP:20260425T141751
CREATED:20220925T174135Z
LAST-MODIFIED:20230406T175343Z
UID:10000375-1668798000-1668805200@goldenyoga-dresden.de
SUMMARY:Konzert und Mantra-Workshop mit Akarshana (Alica Khan & Torsten Schubert)
DESCRIPTION:Konzert und Mantra-Workshop mit Akarshana (Alica Khan & Torsten Schubert) \n“Singing is like laughter with sounds in the voice” \nAkarshana trägt dich an einen anderen Ort – einen Space\, der Verbindungen knüpft zwischen Klangerfahrung und Meditation. Die selbst geschriebenen Songs von Alica und Torsten führen dich auf seelische und körperliche Erfahrungsreisen durch die Klangströme von Mantra. Schwerpunkt dieses Mantra-Workshops ist die Energie von Gayatri\, der Sonne\, inneren Wärme und Willensstärke. \nMantra-Duo Akarshana\nMit der instrumental-musikalischen Struktur\, Vielfältigkeit und Ruhe von Torsten und der Kreativität\, Stimmfokussierung und Didaktik von Alica leitet euch ein sich wunderbar ergänzendes Duo durch Schätze und Mysterien der Mantrapraxis. \nAlica Khan\nAls Mantra Sängerin fühle ich mich wie eine Künstlerin am Webstuhl: Klänge\, Silben und Rythmen verwebe ich für Konzerte und Workshops zu einem Klangteppich\, der uns über Stimmungsebenen und Seelenberge trägt. Gemeinsam können wir auf diesem Teppich auf weite Reisen gehen und tief in uns sehen. \nTorsten Schubert\nAls Musiker liebe ich es\, die Mantras mit Melodien und Akkorden in eine Form zu bringen. Für mich ist das Mantra wie ein Schiff\, beladen mit Energie. Meine Musik ist wie das Wasser und der Wind\, die das Schiff aus dem Hafen heraus seinem Ziel entgegen bringen. Das Schiff kennt den Kurs\, aber ich helfe ihm dort anzukommen. \nWann: 02.06.2023/ 19-21:00 Uhr\nWo: Golden Yoga Dresden\, Obergraben 2\, 01097 Dresden\nEnergieausgleich: 20€\nAnmeldung: info@akarshana.de/ Tel. 0177 3688511 \nhttp://www.akarshana.de \n 
URL:https://goldenyoga-dresden.de/goldenyogakalender/konzert-und-mantra-workshop-mit-akarshana-alica-khan-torsten-schubert/2022-11-18/
LOCATION:golden yoga\, Obergraben 2\, Dresden\, 01097
CATEGORIES:Konzerte & Events,Workshops
ATTACH;FMTTYPE=image/jpeg:https://goldenyoga-dresden.de/wp-content/uploads/2022/09/Akarshana01-e1664134884530.jpg
GEO:51.0597919;13.7424735
X-APPLE-STRUCTURED-LOCATION;VALUE=URI;X-ADDRESS=golden yoga Obergraben 2 Dresden 01097;X-APPLE-RADIUS=500;X-TITLE=Obergraben 2:geo:13.7424735,51.0597919
END:VEVENT
BEGIN:VEVENT
DTSTART;TZID=Europe/Berlin:20221126T100000
DTEND;TZID=Europe/Berlin:20221126T120000
DTSTAMP:20260425T141751
CREATED:20221028T114021Z
LAST-MODIFIED:20221028T114149Z
UID:10000379-1669456800-1669464000@goldenyoga-dresden.de
SUMMARY:Shanta Vira Yoga Workshop „Fließen lassen“ mit Torsten Schubert
DESCRIPTION:Shanta Vira Yoga Workshop mit Torsten Schubert \nThema: „Fließen lassen“ \nShanta Vira ist der friedvolle Krieger. Erkenne\, dass diese Energie auch in dir steckt!\nSpüre deine Lebensenergie und lass dich tragen von deiner Schöpferkraft. Erneuere den Zugang zu deiner dir innewohnenden Kreativität und komme wieder ins Fließen in deinem Leben und in deinen Beziehungen.\nWir arbeiten am 2.Chakra und nutzen eine besondere Kombination aus Asana\, Mudra\, Bandha und Mantra. \nShanta Vira Yoga ist eine umfassende Yogapraxis\, kreiert von Michael J. Stewart (Mexiko).\nTorsten Schubert ist Musiker und Yogalehrer und Lehrer für Shanta Vira Yoga. \nSamstag 26.11. 10-12 Uhr\nKosten 25 Euro\nAnmeldung: schubert-torsten@gmx.net oder per SMS/ Whats App/ Telegram an 01773688511 \nwww.schubert-torsten.de
URL:https://goldenyoga-dresden.de/goldenyogakalender/shanta-vira-yoga-workshop-fliessen-lassen-mit-torsten-schubert/
LOCATION:golden yoga\, Obergraben 2\, Dresden\, 01097
CATEGORIES:Workshops,Yogastunden extra
ATTACH;FMTTYPE=image/jpeg:https://goldenyoga-dresden.de/wp-content/uploads/2022/10/TorstenBansuri-e1666964500682.jpg
GEO:51.0597919;13.7424735
X-APPLE-STRUCTURED-LOCATION;VALUE=URI;X-ADDRESS=golden yoga Obergraben 2 Dresden 01097;X-APPLE-RADIUS=500;X-TITLE=Obergraben 2:geo:13.7424735,51.0597919
END:VEVENT
END:VCALENDAR