BEGIN:VCALENDAR
VERSION:2.0
PRODID:-//Golden Yoga - ECPv6.2.9//NONSGML v1.0//EN
CALSCALE:GREGORIAN
METHOD:PUBLISH
X-ORIGINAL-URL:https://goldenyoga-dresden.de
X-WR-CALDESC:Veranstaltungen für Golden Yoga
REFRESH-INTERVAL;VALUE=DURATION:PT1H
X-Robots-Tag:noindex
X-PUBLISHED-TTL:PT1H
BEGIN:VTIMEZONE
TZID:Europe/Berlin
BEGIN:DAYLIGHT
TZOFFSETFROM:+0100
TZOFFSETTO:+0200
TZNAME:CEST
DTSTART:20230326T010000
END:DAYLIGHT
BEGIN:STANDARD
TZOFFSETFROM:+0200
TZOFFSETTO:+0100
TZNAME:CET
DTSTART:20231029T010000
END:STANDARD
END:VTIMEZONE
BEGIN:VEVENT
DTSTART;TZID=Europe/Berlin:20230916T100000
DTEND;TZID=Europe/Berlin:20230916T123000
DTSTAMP:20260424T175050
CREATED:20230626T125439Z
LAST-MODIFIED:20231123T185434Z
UID:10000416-1694858400-1694867400@goldenyoga-dresden.de
SUMMARY:Shanta Vira Yoga Workshop mit Torsten Schubert
DESCRIPTION:Shanta Vira ist der friedvolle Krieger. Erkenne\, dass diese Energie auch in dir steckt! \nWir praktizieren eine Sequenz aus dem Shanta Vira Yoga. Über die Übungen und Asanas öffnen wir den Körper\, um dann mit den subtileren Praktiken\, wie Bandhas\, Mudras und Mantra die Energie der Hingabe in das Herz zu ziehen. \nShanta Vira Yoga ist eine umfassende Yogapraxis\, kreiert von Michael J. Stewart (Mexiko). \nTorsten Schubert ist Musiker und Yogalehrer und Lehrer für Shanta Vira Yoga in Dresden. \nSamstag 25.11. 10-12.30 Uhr\nKosten 25 Euro\nAnmeldung: schubert-torsten@gmx.net oder per SMS/ Whats App/ Telegram an 01773688511 \nwww.schubert-torsten.de
URL:https://goldenyoga-dresden.de/goldenyogakalender/shanta-vira-yoga-workshop-mit-torsten-schubert/
LOCATION:golden yoga\, Obergraben 2\, Dresden\, 01097
CATEGORIES:Workshops,Yogastunden extra
ATTACH;FMTTYPE=image/jpeg:https://goldenyoga-dresden.de/wp-content/uploads/2023/06/Torsten-Schubert-20230916.jpg
GEO:51.0597919;13.7424735
X-APPLE-STRUCTURED-LOCATION;VALUE=URI;X-ADDRESS=golden yoga Obergraben 2 Dresden 01097;X-APPLE-RADIUS=500;X-TITLE=Obergraben 2:geo:13.7424735,51.0597919
END:VEVENT
END:VCALENDAR